BEGIN:VCALENDAR
VERSION:2.0
PRODID:-//tielensewielertoeristen - ECPv6.15.20//NONSGML v1.0//EN
CALSCALE:GREGORIAN
METHOD:PUBLISH
X-ORIGINAL-URL:https://www.tielensewielertoeristen.be
X-WR-CALDESC:Events voor tielensewielertoeristen
REFRESH-INTERVAL;VALUE=DURATION:PT1H
X-Robots-Tag:noindex
X-PUBLISHED-TTL:PT1H
BEGIN:VTIMEZONE
TZID:Europe/Brussels
BEGIN:DAYLIGHT
TZOFFSETFROM:+0100
TZOFFSETTO:+0200
TZNAME:CEST
DTSTART:20230326T010000
END:DAYLIGHT
BEGIN:STANDARD
TZOFFSETFROM:+0200
TZOFFSETTO:+0100
TZNAME:CET
DTSTART:20231029T010000
END:STANDARD
BEGIN:DAYLIGHT
TZOFFSETFROM:+0100
TZOFFSETTO:+0200
TZNAME:CEST
DTSTART:20240331T010000
END:DAYLIGHT
BEGIN:STANDARD
TZOFFSETFROM:+0200
TZOFFSETTO:+0100
TZNAME:CET
DTSTART:20241027T010000
END:STANDARD
BEGIN:DAYLIGHT
TZOFFSETFROM:+0100
TZOFFSETTO:+0200
TZNAME:CEST
DTSTART:20250330T010000
END:DAYLIGHT
BEGIN:STANDARD
TZOFFSETFROM:+0200
TZOFFSETTO:+0100
TZNAME:CET
DTSTART:20251026T010000
END:STANDARD
END:VTIMEZONE
BEGIN:VEVENT
DTSTART;TZID=Europe/Brussels:20240915T000000
DTEND;TZID=Europe/Brussels:20240915T000000
DTSTAMP:20260424T045200
CREATED:20240731T191537Z
LAST-MODIFIED:20240731T191537Z
UID:4673-1726358400-1726358400@www.tielensewielertoeristen.be
SUMMARY:MTB + Gravelrit
DESCRIPTION:
URL:https://www.tielensewielertoeristen.be/events/mtb-gravelrit
CATEGORIES:MTB + Gravelrit
END:VEVENT
BEGIN:VEVENT
DTSTART;TZID=Europe/Brussels:20240914T080000
DTEND;TZID=Europe/Brussels:20240914T080000
DTSTAMP:20260424T045200
CREATED:20240731T191537Z
LAST-MODIFIED:20240731T191537Z
UID:4672-1726300800-1726300800@www.tielensewielertoeristen.be
SUMMARY:Afpijlen MTB
DESCRIPTION:
URL:https://www.tielensewielertoeristen.be/events/afpijlen-mtb
CATEGORIES:MTB + Gravelrit
END:VEVENT
BEGIN:VEVENT
DTSTART;TZID=Europe/Brussels:20240907T000000
DTEND;TZID=Europe/Brussels:20240907T000000
DTSTAMP:20260424T045200
CREATED:20240731T191532Z
LAST-MODIFIED:20240731T191532Z
UID:4668-1725667200-1725667200@www.tielensewielertoeristen.be
SUMMARY:Verkenning MTB toer
DESCRIPTION:
URL:https://www.tielensewielertoeristen.be/events/verkenning-mtb-toer
CATEGORIES:MTB + Gravelrit
END:VEVENT
BEGIN:VEVENT
DTSTART;TZID=Europe/Brussels:20240903T200000
DTEND;TZID=Europe/Brussels:20240903T200000
DTSTAMP:20260424T045200
CREATED:20240731T191532Z
LAST-MODIFIED:20240731T191532Z
UID:4667-1725393600-1725393600@www.tielensewielertoeristen.be
SUMMARY:MTB leden vergadering
DESCRIPTION:
URL:https://www.tielensewielertoeristen.be/events/mtb-leden-vergadering
CATEGORIES:MTB + Gravelrit
END:VEVENT
END:VCALENDAR