BEGIN:VCALENDAR
VERSION:2.0
PRODID:-//tielensewielertoeristen - ECPv6.15.20//NONSGML v1.0//EN
CALSCALE:GREGORIAN
METHOD:PUBLISH
X-WR-CALNAME:tielensewielertoeristen
X-ORIGINAL-URL:https://www.tielensewielertoeristen.be
X-WR-CALDESC:Events voor tielensewielertoeristen
REFRESH-INTERVAL;VALUE=DURATION:PT1H
X-Robots-Tag:noindex
X-PUBLISHED-TTL:PT1H
BEGIN:VTIMEZONE
TZID:Europe/Brussels
BEGIN:DAYLIGHT
TZOFFSETFROM:+0100
TZOFFSETTO:+0200
TZNAME:CEST
DTSTART:20250330T010000
END:DAYLIGHT
BEGIN:STANDARD
TZOFFSETFROM:+0200
TZOFFSETTO:+0100
TZNAME:CET
DTSTART:20251026T010000
END:STANDARD
BEGIN:DAYLIGHT
TZOFFSETFROM:+0100
TZOFFSETTO:+0200
TZNAME:CEST
DTSTART:20260329T010000
END:DAYLIGHT
BEGIN:STANDARD
TZOFFSETFROM:+0200
TZOFFSETTO:+0100
TZNAME:CET
DTSTART:20261025T010000
END:STANDARD
BEGIN:DAYLIGHT
TZOFFSETFROM:+0100
TZOFFSETTO:+0200
TZNAME:CEST
DTSTART:20270328T010000
END:DAYLIGHT
BEGIN:STANDARD
TZOFFSETFROM:+0200
TZOFFSETTO:+0100
TZNAME:CET
DTSTART:20271031T010000
END:STANDARD
END:VTIMEZONE
BEGIN:VEVENT
DTSTART;TZID=Europe/Brussels:20260321T083000
DTEND;TZID=Europe/Brussels:20260321T083000
DTSTAMP:20260423T091856
CREATED:20260222T180433Z
LAST-MODIFIED:20260222T180433Z
UID:6350-1774081800-1774081800@www.tielensewielertoeristen.be
SUMMARY:A Rit in onderlinge afspraak
DESCRIPTION:
URL:https://www.tielensewielertoeristen.be/events/a-rit-in-onderlinge-afspraak-4
CATEGORIES:Zaterdagrit
END:VEVENT
BEGIN:VEVENT
DTSTART;TZID=Europe/Brussels:20260321T083000
DTEND;TZID=Europe/Brussels:20260321T083000
DTSTAMP:20260423T091856
CREATED:20260122T192823Z
LAST-MODIFIED:20260122T192823Z
UID:6289-1774081800-1774081800@www.tielensewielertoeristen.be
SUMMARY:C Heidepad ingekort 98 km
DESCRIPTION:Download rit
URL:https://www.tielensewielertoeristen.be/events/c-heidepad-ingekort-98-km
CATEGORIES:Zaterdagrit
END:VEVENT
BEGIN:VEVENT
DTSTART;TZID=Europe/Brussels:20260321T083000
DTEND;TZID=Europe/Brussels:20260321T083000
DTSTAMP:20260423T091856
CREATED:20260122T192823Z
LAST-MODIFIED:20260122T192823Z
UID:6288-1774081800-1774081800@www.tielensewielertoeristen.be
SUMMARY:B+/B Heidepad 132 km
DESCRIPTION:Download rit
URL:https://www.tielensewielertoeristen.be/events/b-b-heidepad-132-km
CATEGORIES:Zaterdagrit
END:VEVENT
END:VCALENDAR