BEGIN:VCALENDAR
VERSION:2.0
PRODID:-//tielensewielertoeristen - ECPv6.15.20//NONSGML v1.0//EN
CALSCALE:GREGORIAN
METHOD:PUBLISH
X-ORIGINAL-URL:https://www.tielensewielertoeristen.be
X-WR-CALDESC:Events voor tielensewielertoeristen
REFRESH-INTERVAL;VALUE=DURATION:PT1H
X-Robots-Tag:noindex
X-PUBLISHED-TTL:PT1H
BEGIN:VTIMEZONE
TZID:Europe/Brussels
BEGIN:DAYLIGHT
TZOFFSETFROM:+0100
TZOFFSETTO:+0200
TZNAME:CEST
DTSTART:20230326T010000
END:DAYLIGHT
BEGIN:STANDARD
TZOFFSETFROM:+0200
TZOFFSETTO:+0100
TZNAME:CET
DTSTART:20231029T010000
END:STANDARD
BEGIN:DAYLIGHT
TZOFFSETFROM:+0100
TZOFFSETTO:+0200
TZNAME:CEST
DTSTART:20240331T010000
END:DAYLIGHT
BEGIN:STANDARD
TZOFFSETFROM:+0200
TZOFFSETTO:+0100
TZNAME:CET
DTSTART:20241027T010000
END:STANDARD
BEGIN:DAYLIGHT
TZOFFSETFROM:+0100
TZOFFSETTO:+0200
TZNAME:CEST
DTSTART:20250330T010000
END:DAYLIGHT
BEGIN:STANDARD
TZOFFSETFROM:+0200
TZOFFSETTO:+0100
TZNAME:CET
DTSTART:20251026T010000
END:STANDARD
BEGIN:DAYLIGHT
TZOFFSETFROM:+0100
TZOFFSETTO:+0200
TZNAME:CEST
DTSTART:20260329T010000
END:DAYLIGHT
BEGIN:STANDARD
TZOFFSETFROM:+0200
TZOFFSETTO:+0100
TZNAME:CET
DTSTART:20261025T010000
END:STANDARD
END:VTIMEZONE
BEGIN:VEVENT
DTSTART;TZID=Europe/Brussels:20250810T063000
DTEND;TZID=Europe/Brussels:20250810T063000
DTSTAMP:20260423T191851
CREATED:20250723T193347Z
LAST-MODIFIED:20250809T063108Z
UID:6017-1754807400-1754807400@www.tielensewielertoeristen.be
SUMMARY:B+/B Blankenberge 170 km
DESCRIPTION:Binnenkort gaan wij naar zee!! \nLet op deze rit is een beetje gewijzigd. Zorg er dus zeker voor dat jij deze rit download 😉 \nHier is je rit – Veel plezier
URL:https://www.tielensewielertoeristen.be/events/b-b-blankenberge-170-km
CATEGORIES:Zeerit
END:VEVENT
BEGIN:VEVENT
DTSTART;TZID=Europe/Brussels:20250810T063000
DTEND;TZID=Europe/Brussels:20250810T063000
DTSTAMP:20260423T191851
CREATED:20250723T193347Z
LAST-MODIFIED:20250809T063118Z
UID:6018-1754807400-1754807400@www.tielensewielertoeristen.be
SUMMARY:C Blankenberge 170 km
DESCRIPTION:Binnenkort gaan wij naar zee!! \nLet op deze rit is een beetje gewijzigd. Zorg er dus zeker voor dat jij deze rit download 😉 \nHier is je rit – Veel plezier
URL:https://www.tielensewielertoeristen.be/events/c-blankenberge-170-km
CATEGORIES:Zeerit
END:VEVENT
BEGIN:VEVENT
DTSTART;TZID=Europe/Brussels:20240811T063000
DTEND;TZID=Europe/Brussels:20240811T063000
DTSTAMP:20260423T191851
CREATED:20240628T153637Z
LAST-MODIFIED:20240809T145452Z
UID:4559-1723357800-1723357800@www.tielensewielertoeristen.be
SUMMARY:B+ / B Blankenberge 166KM
DESCRIPTION:Download rit
URL:https://www.tielensewielertoeristen.be/events/b-b-blankenberge-166km
CATEGORIES:Zeerit
END:VEVENT
BEGIN:VEVENT
DTSTART;TZID=Europe/Brussels:20240811T063000
DTEND;TZID=Europe/Brussels:20240811T063000
DTSTAMP:20260423T191851
CREATED:20240628T153637Z
LAST-MODIFIED:20240809T145514Z
UID:4560-1723357800-1723357800@www.tielensewielertoeristen.be
SUMMARY:C Blankenberge 166KM
DESCRIPTION:Download rit
URL:https://www.tielensewielertoeristen.be/events/c-blankenberge-166km
CATEGORIES:Zeerit
END:VEVENT
END:VCALENDAR