BEGIN:VCALENDAR
VERSION:2.0
PRODID:-//tielensewielertoeristen - ECPv6.15.20//NONSGML v1.0//EN
CALSCALE:GREGORIAN
METHOD:PUBLISH
X-WR-CALNAME:tielensewielertoeristen
X-ORIGINAL-URL:https://www.tielensewielertoeristen.be
X-WR-CALDESC:Events voor tielensewielertoeristen
REFRESH-INTERVAL;VALUE=DURATION:PT1H
X-Robots-Tag:noindex
X-PUBLISHED-TTL:PT1H
BEGIN:VTIMEZONE
TZID:Europe/Brussels
BEGIN:DAYLIGHT
TZOFFSETFROM:+0100
TZOFFSETTO:+0200
TZNAME:CEST
DTSTART:20250330T010000
END:DAYLIGHT
BEGIN:STANDARD
TZOFFSETFROM:+0200
TZOFFSETTO:+0100
TZNAME:CET
DTSTART:20251026T010000
END:STANDARD
BEGIN:DAYLIGHT
TZOFFSETFROM:+0100
TZOFFSETTO:+0200
TZNAME:CEST
DTSTART:20260329T010000
END:DAYLIGHT
BEGIN:STANDARD
TZOFFSETFROM:+0200
TZOFFSETTO:+0100
TZNAME:CET
DTSTART:20261025T010000
END:STANDARD
BEGIN:DAYLIGHT
TZOFFSETFROM:+0100
TZOFFSETTO:+0200
TZNAME:CEST
DTSTART:20270328T010000
END:DAYLIGHT
BEGIN:STANDARD
TZOFFSETFROM:+0200
TZOFFSETTO:+0100
TZNAME:CET
DTSTART:20271031T010000
END:STANDARD
END:VTIMEZONE
BEGIN:VEVENT
DTSTART;TZID=Europe/Brussels:20260419T080000
DTEND;TZID=Europe/Brussels:20260419T080000
DTSTAMP:20260423T061232
CREATED:20260223T082858Z
LAST-MODIFIED:20260223T082858Z
UID:6377-1776585600-1776585600@www.tielensewielertoeristen.be
SUMMARY:A Rit in onderlinge afspraak
DESCRIPTION:
URL:https://www.tielensewielertoeristen.be/events/a-rit-in-onderlinge-afspraak-11
END:VEVENT
BEGIN:VEVENT
DTSTART;TZID=Europe/Brussels:20260419T080000
DTEND;TZID=Europe/Brussels:20260419T080000
DTSTAMP:20260423T061232
CREATED:20260223T082457Z
LAST-MODIFIED:20260223T082457Z
UID:6369-1776585600-1776585600@www.tielensewielertoeristen.be
SUMMARY:B+/ B Hooge Mierde licht 96 km
DESCRIPTION:Download rit
URL:https://www.tielensewielertoeristen.be/events/b-b-hooge-mierde-licht-96-km
END:VEVENT
BEGIN:VEVENT
DTSTART;TZID=Europe/Brussels:20260419T080000
DTEND;TZID=Europe/Brussels:20260419T080000
DTSTAMP:20260423T061232
CREATED:20260223T082457Z
LAST-MODIFIED:20260223T082457Z
UID:6370-1776585600-1776585600@www.tielensewielertoeristen.be
SUMMARY:C Rijkevorsel - Ravels 76 km
DESCRIPTION:Download rit
URL:https://www.tielensewielertoeristen.be/events/c-rijkevorsel-ravels-76-km-2
END:VEVENT
BEGIN:VEVENT
DTSTART;TZID=Europe/Brussels:20260418T080000
DTEND;TZID=Europe/Brussels:20260418T080000
DTSTAMP:20260423T061232
CREATED:20260223T082858Z
LAST-MODIFIED:20260223T082858Z
UID:6376-1776499200-1776499200@www.tielensewielertoeristen.be
SUMMARY:A Rit in onderlinge afspraak
DESCRIPTION:
URL:https://www.tielensewielertoeristen.be/events/a-rit-in-onderlinge-afspraak-10
END:VEVENT
BEGIN:VEVENT
DTSTART;TZID=Europe/Brussels:20260418T080000
DTEND;TZID=Europe/Brussels:20260418T080000
DTSTAMP:20260423T061232
CREATED:20260223T082456Z
LAST-MODIFIED:20260223T082456Z
UID:6367-1776499200-1776499200@www.tielensewielertoeristen.be
SUMMARY:AB+/B Willemstad 183 km
DESCRIPTION:Download rit
URL:https://www.tielensewielertoeristen.be/events/ab-b-willemstad-183-km
END:VEVENT
BEGIN:VEVENT
DTSTART;TZID=Europe/Brussels:20260418T080000
DTEND;TZID=Europe/Brussels:20260418T080000
DTSTAMP:20260423T061232
CREATED:20260223T082456Z
LAST-MODIFIED:20260223T082456Z
UID:6368-1776499200-1776499200@www.tielensewielertoeristen.be
SUMMARY:C Vlooibergtoren 98 km
DESCRIPTION:Download rit
URL:https://www.tielensewielertoeristen.be/events/c-vlooibergtoren-98-km
END:VEVENT
BEGIN:VEVENT
DTSTART;TZID=Europe/Brussels:20260412T080000
DTEND;TZID=Europe/Brussels:20260412T080000
DTSTAMP:20260423T061232
CREATED:20260223T082658Z
LAST-MODIFIED:20260223T082658Z
UID:6375-1775980800-1775980800@www.tielensewielertoeristen.be
SUMMARY:A Rit in onderlinge afspraak
DESCRIPTION:
URL:https://www.tielensewielertoeristen.be/events/a-rit-in-onderlinge-afspraak-9
END:VEVENT
BEGIN:VEVENT
DTSTART;TZID=Europe/Brussels:20260412T080000
DTEND;TZID=Europe/Brussels:20260412T080000
DTSTAMP:20260423T061232
CREATED:20260223T082456Z
LAST-MODIFIED:20260223T082456Z
UID:6366-1775980800-1775980800@www.tielensewielertoeristen.be
SUMMARY:C Lommel - Sahara 80 km
DESCRIPTION:Download rit
URL:https://www.tielensewielertoeristen.be/events/c-lommel-sahara-80-km-3
END:VEVENT
BEGIN:VEVENT
DTSTART;TZID=Europe/Brussels:20260412T080000
DTEND;TZID=Europe/Brussels:20260412T080000
DTSTAMP:20260423T061232
CREATED:20260223T082454Z
LAST-MODIFIED:20260223T082454Z
UID:6365-1775980800-1775980800@www.tielensewielertoeristen.be
SUMMARY:B+/ B Ronde van Itegem licht 98 km
DESCRIPTION:Download rit
URL:https://www.tielensewielertoeristen.be/events/b-b-ronde-van-itegem-licht-98-km
END:VEVENT
BEGIN:VEVENT
DTSTART;TZID=Europe/Brussels:20260406T080000
DTEND;TZID=Europe/Brussels:20260406T080000
DTSTAMP:20260423T061232
CREATED:20260223T082657Z
LAST-MODIFIED:20260223T082657Z
UID:6374-1775462400-1775462400@www.tielensewielertoeristen.be
SUMMARY:A Rit in onderlinge afspraak
DESCRIPTION:
URL:https://www.tielensewielertoeristen.be/events/a-rit-in-onderlinge-afspraak-8
END:VEVENT
BEGIN:VEVENT
DTSTART;TZID=Europe/Brussels:20260406T080000
DTEND;TZID=Europe/Brussels:20260406T080000
DTSTAMP:20260423T061232
CREATED:20260223T082454Z
LAST-MODIFIED:20260306T094243Z
UID:6363-1775462400-1775462400@www.tielensewielertoeristen.be
SUMMARY:B+/ B Schaffen - Meldert Zelem 100 km
DESCRIPTION:Download rit
URL:https://www.tielensewielertoeristen.be/events/b-b-schaffen-meldert-zelem-100-km-2
END:VEVENT
BEGIN:VEVENT
DTSTART;TZID=Europe/Brussels:20260406T080000
DTEND;TZID=Europe/Brussels:20260406T080000
DTSTAMP:20260423T061232
CREATED:20260223T082454Z
LAST-MODIFIED:20260306T094252Z
UID:6364-1775462400-1775462400@www.tielensewielertoeristen.be
SUMMARY:C Wortel 79 km
DESCRIPTION:Download rit
URL:https://www.tielensewielertoeristen.be/events/c-wortel-79-km-2
END:VEVENT
BEGIN:VEVENT
DTSTART;TZID=Europe/Brussels:20260405T080000
DTEND;TZID=Europe/Brussels:20260405T080000
DTSTAMP:20260423T061232
CREATED:20260223T082657Z
LAST-MODIFIED:20260223T082657Z
UID:6373-1775376000-1775376000@www.tielensewielertoeristen.be
SUMMARY:A Rit in onderlinge afspraak
DESCRIPTION:
URL:https://www.tielensewielertoeristen.be/events/a-rit-in-onderlinge-afspraak-7
END:VEVENT
BEGIN:VEVENT
DTSTART;TZID=Europe/Brussels:20260405T080000
DTEND;TZID=Europe/Brussels:20260405T080000
DTSTAMP:20260423T061232
CREATED:20260223T082454Z
LAST-MODIFIED:20260223T082454Z
UID:6362-1775376000-1775376000@www.tielensewielertoeristen.be
SUMMARY:C Bouwel - Nijlen 79 km
DESCRIPTION:Download rit
URL:https://www.tielensewielertoeristen.be/events/c-bouwel-nijlen-79-km-2
END:VEVENT
BEGIN:VEVENT
DTSTART;TZID=Europe/Brussels:20260405T080000
DTEND;TZID=Europe/Brussels:20260405T080000
DTSTAMP:20260423T061232
CREATED:20260223T082454Z
LAST-MODIFIED:20260223T082454Z
UID:6361-1775376000-1775376000@www.tielensewielertoeristen.be
SUMMARY:B+/ B Meerseldreef 100 km
DESCRIPTION:Download rit
URL:https://www.tielensewielertoeristen.be/events/b-b-meerseldreef-100-km-2
END:VEVENT
BEGIN:VEVENT
DTSTART;TZID=Europe/Brussels:20260329T083000
DTEND;TZID=Europe/Brussels:20260329T083000
DTSTAMP:20260423T061232
CREATED:20260222T180435Z
LAST-MODIFIED:20260222T180435Z
UID:6352-1774773000-1774773000@www.tielensewielertoeristen.be
SUMMARY:A Rit in onderlinge afspraak
DESCRIPTION:
URL:https://www.tielensewielertoeristen.be/events/a-rit-in-onderlinge-afspraak-6
END:VEVENT
BEGIN:VEVENT
DTSTART;TZID=Europe/Brussels:20260329T083000
DTEND;TZID=Europe/Brussels:20260329T083000
DTSTAMP:20260423T061232
CREATED:20260122T193024Z
LAST-MODIFIED:20260122T193024Z
UID:6292-1774773000-1774773000@www.tielensewielertoeristen.be
SUMMARY:B+/B Scherpenheuvel 80 km
DESCRIPTION:Download rit
URL:https://www.tielensewielertoeristen.be/events/b-b-scherpenheuvel-80-km
END:VEVENT
BEGIN:VEVENT
DTSTART;TZID=Europe/Brussels:20260329T083000
DTEND;TZID=Europe/Brussels:20260329T083000
DTSTAMP:20260423T061232
CREATED:20260122T193024Z
LAST-MODIFIED:20260122T193024Z
UID:6293-1774773000-1774773000@www.tielensewielertoeristen.be
SUMMARY:C Hulshout 72 km
DESCRIPTION:Download rit
URL:https://www.tielensewielertoeristen.be/events/c-hulshout-72-km-2
END:VEVENT
BEGIN:VEVENT
DTSTART;TZID=Europe/Brussels:20260322T083000
DTEND;TZID=Europe/Brussels:20260322T083000
DTSTAMP:20260423T061232
CREATED:20260222T180433Z
LAST-MODIFIED:20260222T180433Z
UID:6351-1774168200-1774168200@www.tielensewielertoeristen.be
SUMMARY:A Rit in onderlinge afspraak
DESCRIPTION:
URL:https://www.tielensewielertoeristen.be/events/a-rit-in-onderlinge-afspraak-5
END:VEVENT
BEGIN:VEVENT
DTSTART;TZID=Europe/Brussels:20260322T083000
DTEND;TZID=Europe/Brussels:20260322T083000
DTSTAMP:20260423T061232
CREATED:20260122T192823Z
LAST-MODIFIED:20260122T192823Z
UID:6290-1774168200-1774168200@www.tielensewielertoeristen.be
SUMMARY:B+/B Luycksgestel 87 km
DESCRIPTION:Download rit
URL:https://www.tielensewielertoeristen.be/events/b-b-luycksgestel-87-km
END:VEVENT
BEGIN:VEVENT
DTSTART;TZID=Europe/Brussels:20260322T083000
DTEND;TZID=Europe/Brussels:20260322T083000
DTSTAMP:20260423T061232
CREATED:20260122T192823Z
LAST-MODIFIED:20260122T192823Z
UID:6291-1774168200-1774168200@www.tielensewielertoeristen.be
SUMMARY:C Molenstede 75 km
DESCRIPTION:Download rit
URL:https://www.tielensewielertoeristen.be/events/c-molenstede-75-km-2
END:VEVENT
BEGIN:VEVENT
DTSTART;TZID=Europe/Brussels:20260321T083000
DTEND;TZID=Europe/Brussels:20260321T083000
DTSTAMP:20260423T061232
CREATED:20260222T180433Z
LAST-MODIFIED:20260222T180433Z
UID:6350-1774081800-1774081800@www.tielensewielertoeristen.be
SUMMARY:A Rit in onderlinge afspraak
DESCRIPTION:
URL:https://www.tielensewielertoeristen.be/events/a-rit-in-onderlinge-afspraak-4
CATEGORIES:Zaterdagrit
END:VEVENT
BEGIN:VEVENT
DTSTART;TZID=Europe/Brussels:20260321T083000
DTEND;TZID=Europe/Brussels:20260321T083000
DTSTAMP:20260423T061232
CREATED:20260122T192823Z
LAST-MODIFIED:20260122T192823Z
UID:6288-1774081800-1774081800@www.tielensewielertoeristen.be
SUMMARY:B+/B Heidepad 132 km
DESCRIPTION:Download rit
URL:https://www.tielensewielertoeristen.be/events/b-b-heidepad-132-km
CATEGORIES:Zaterdagrit
END:VEVENT
BEGIN:VEVENT
DTSTART;TZID=Europe/Brussels:20260321T083000
DTEND;TZID=Europe/Brussels:20260321T083000
DTSTAMP:20260423T061232
CREATED:20260122T192823Z
LAST-MODIFIED:20260122T192823Z
UID:6289-1774081800-1774081800@www.tielensewielertoeristen.be
SUMMARY:C Heidepad ingekort 98 km
DESCRIPTION:Download rit
URL:https://www.tielensewielertoeristen.be/events/c-heidepad-ingekort-98-km
CATEGORIES:Zaterdagrit
END:VEVENT
BEGIN:VEVENT
DTSTART;TZID=Europe/Brussels:20260315T083000
DTEND;TZID=Europe/Brussels:20260315T083000
DTSTAMP:20260423T061232
CREATED:20260222T180433Z
LAST-MODIFIED:20260222T180433Z
UID:6349-1773563400-1773563400@www.tielensewielertoeristen.be
SUMMARY:A Rit in onderlinge afspraak
DESCRIPTION:
URL:https://www.tielensewielertoeristen.be/events/a-rit-in-onderlinge-afspraak-3
END:VEVENT
BEGIN:VEVENT
DTSTART;TZID=Europe/Brussels:20260315T083000
DTEND;TZID=Europe/Brussels:20260315T083000
DTSTAMP:20260423T061232
CREATED:20260122T192822Z
LAST-MODIFIED:20260122T192822Z
UID:6287-1773563400-1773563400@www.tielensewielertoeristen.be
SUMMARY:C Rijkevorsel - Zondereigen 72 km
DESCRIPTION:Download rit
URL:https://www.tielensewielertoeristen.be/events/c-rijkevorsel-zondereigen-72-km
END:VEVENT
BEGIN:VEVENT
DTSTART;TZID=Europe/Brussels:20260315T083000
DTEND;TZID=Europe/Brussels:20260315T083000
DTSTAMP:20260423T061232
CREATED:20260122T192819Z
LAST-MODIFIED:20260122T192819Z
UID:6286-1773563400-1773563400@www.tielensewielertoeristen.be
SUMMARY:B+/B Booischot 80 km
DESCRIPTION:Download rit
URL:https://www.tielensewielertoeristen.be/events/b-b-booischot-80-km
END:VEVENT
BEGIN:VEVENT
DTSTART;TZID=Europe/Brussels:20260308T083000
DTEND;TZID=Europe/Brussels:20260308T083000
DTSTAMP:20260423T061232
CREATED:20260222T180433Z
LAST-MODIFIED:20260222T180433Z
UID:6348-1772958600-1772958600@www.tielensewielertoeristen.be
SUMMARY:A Rit in onderlinge afspraak
DESCRIPTION:
URL:https://www.tielensewielertoeristen.be/events/a-rit-in-onderlinge-afspraak-2
END:VEVENT
BEGIN:VEVENT
DTSTART;TZID=Europe/Brussels:20260308T083000
DTEND;TZID=Europe/Brussels:20260308T083000
DTSTAMP:20260423T061232
CREATED:20260122T192819Z
LAST-MODIFIED:20260122T192819Z
UID:6285-1772958600-1772958600@www.tielensewielertoeristen.be
SUMMARY:C Arendonk 62 km
DESCRIPTION:Download rit
URL:https://www.tielensewielertoeristen.be/events/c-arendonk-62-km
END:VEVENT
BEGIN:VEVENT
DTSTART;TZID=Europe/Brussels:20260308T083000
DTEND;TZID=Europe/Brussels:20260308T083000
DTSTAMP:20260423T061232
CREATED:20260122T192819Z
LAST-MODIFIED:20260122T192819Z
UID:6284-1772958600-1772958600@www.tielensewielertoeristen.be
SUMMARY:B+/B Zoersel 75 km
DESCRIPTION:Download rit
URL:https://www.tielensewielertoeristen.be/events/b-b-zoersel-75-km
END:VEVENT
END:VCALENDAR