BEGIN:VCALENDAR
VERSION:2.0
PRODID:-//tielensewielertoeristen - ECPv6.15.20//NONSGML v1.0//EN
CALSCALE:GREGORIAN
METHOD:PUBLISH
X-WR-CALNAME:tielensewielertoeristen
X-ORIGINAL-URL:https://www.tielensewielertoeristen.be
X-WR-CALDESC:Events voor tielensewielertoeristen
REFRESH-INTERVAL;VALUE=DURATION:PT1H
X-Robots-Tag:noindex
X-PUBLISHED-TTL:PT1H
BEGIN:VTIMEZONE
TZID:Europe/Brussels
BEGIN:DAYLIGHT
TZOFFSETFROM:+0100
TZOFFSETTO:+0200
TZNAME:CEST
DTSTART:20230326T010000
END:DAYLIGHT
BEGIN:STANDARD
TZOFFSETFROM:+0200
TZOFFSETTO:+0100
TZNAME:CET
DTSTART:20231029T010000
END:STANDARD
BEGIN:DAYLIGHT
TZOFFSETFROM:+0100
TZOFFSETTO:+0200
TZNAME:CEST
DTSTART:20240331T010000
END:DAYLIGHT
BEGIN:STANDARD
TZOFFSETFROM:+0200
TZOFFSETTO:+0100
TZNAME:CET
DTSTART:20241027T010000
END:STANDARD
BEGIN:DAYLIGHT
TZOFFSETFROM:+0100
TZOFFSETTO:+0200
TZNAME:CEST
DTSTART:20250330T010000
END:DAYLIGHT
BEGIN:STANDARD
TZOFFSETFROM:+0200
TZOFFSETTO:+0100
TZNAME:CET
DTSTART:20251026T010000
END:STANDARD
BEGIN:DAYLIGHT
TZOFFSETFROM:+0100
TZOFFSETTO:+0200
TZNAME:CEST
DTSTART:20260329T010000
END:DAYLIGHT
BEGIN:STANDARD
TZOFFSETFROM:+0200
TZOFFSETTO:+0100
TZNAME:CET
DTSTART:20261025T010000
END:STANDARD
END:VTIMEZONE
BEGIN:VEVENT
DTSTART;TZID=Europe/Brussels:20250420T080000
DTEND;TZID=Europe/Brussels:20250420T080000
DTSTAMP:20260423T223224
CREATED:20250327T170359Z
LAST-MODIFIED:20250327T170359Z
UID:5856-1745136000-1745136000@www.tielensewielertoeristen.be
SUMMARY:C Lommel - Sahara 80 km
DESCRIPTION:Download rit
URL:https://www.tielensewielertoeristen.be/events/c-lommel-sahara-80-km
END:VEVENT
BEGIN:VEVENT
DTSTART;TZID=Europe/Brussels:20250420T080000
DTEND;TZID=Europe/Brussels:20250420T080000
DTSTAMP:20260423T223224
CREATED:20250327T170353Z
LAST-MODIFIED:20250327T170353Z
UID:5855-1745136000-1745136000@www.tielensewielertoeristen.be
SUMMARY:B+/B ronde van Itegem light 98 km
DESCRIPTION:Download rit
URL:https://www.tielensewielertoeristen.be/events/b-b-ronde-van-itegem-light-98-km
END:VEVENT
BEGIN:VEVENT
DTSTART;TZID=Europe/Brussels:20250413T080000
DTEND;TZID=Europe/Brussels:20250413T080000
DTSTAMP:20260423T223224
CREATED:20250327T170353Z
LAST-MODIFIED:20250327T170353Z
UID:5853-1744531200-1744531200@www.tielensewielertoeristen.be
SUMMARY:B+/B Schaffen - Meldert  Zelem 100 km
DESCRIPTION:Download rit
URL:https://www.tielensewielertoeristen.be/events/b-b-schaffen-meldert-zelem-100-km
END:VEVENT
BEGIN:VEVENT
DTSTART;TZID=Europe/Brussels:20250413T080000
DTEND;TZID=Europe/Brussels:20250413T080000
DTSTAMP:20260423T223224
CREATED:20250327T170353Z
LAST-MODIFIED:20250327T170353Z
UID:5854-1744531200-1744531200@www.tielensewielertoeristen.be
SUMMARY:C Wortel 79 km
DESCRIPTION:Download rit
URL:https://www.tielensewielertoeristen.be/events/c-wortel-79-km
END:VEVENT
BEGIN:VEVENT
DTSTART;TZID=Europe/Brussels:20250406T080000
DTEND;TZID=Europe/Brussels:20250406T080000
DTSTAMP:20260423T223224
CREATED:20250327T170353Z
LAST-MODIFIED:20250327T170353Z
UID:5851-1743926400-1743926400@www.tielensewielertoeristen.be
SUMMARY:B+/B Meerseldreef 100 km
DESCRIPTION:Download rit
URL:https://www.tielensewielertoeristen.be/events/b-b-meerseldreef-100-km
END:VEVENT
BEGIN:VEVENT
DTSTART;TZID=Europe/Brussels:20250406T080000
DTEND;TZID=Europe/Brussels:20250406T080000
DTSTAMP:20260423T223224
CREATED:20250327T170353Z
LAST-MODIFIED:20250327T170353Z
UID:5852-1743926400-1743926400@www.tielensewielertoeristen.be
SUMMARY:C Bouwel - Nijlen 79 km
DESCRIPTION:Download rit
URL:https://www.tielensewielertoeristen.be/events/c-bouwel-nijlen-79-km
END:VEVENT
BEGIN:VEVENT
DTSTART;TZID=Europe/Brussels:20250330T083000
DTEND;TZID=Europe/Brussels:20250330T083000
DTSTAMP:20260423T223224
CREATED:20250121T171338Z
LAST-MODIFIED:20250121T172605Z
UID:5745-1743323400-1743323400@www.tielensewielertoeristen.be
SUMMARY:B+ / B Poppel 95KM
DESCRIPTION:Download rit
URL:https://www.tielensewielertoeristen.be/events/b-b-poppel-95km-2
END:VEVENT
BEGIN:VEVENT
DTSTART;TZID=Europe/Brussels:20250330T083000
DTEND;TZID=Europe/Brussels:20250330T083000
DTSTAMP:20260423T223224
CREATED:20250121T171338Z
LAST-MODIFIED:20250121T171338Z
UID:5746-1743323400-1743323400@www.tielensewielertoeristen.be
SUMMARY:C Booischot 80KM
DESCRIPTION:Download rit
URL:https://www.tielensewielertoeristen.be/events/c-booischot-80km-2
END:VEVENT
BEGIN:VEVENT
DTSTART;TZID=Europe/Brussels:20250323T083000
DTEND;TZID=Europe/Brussels:20250323T083000
DTSTAMP:20260423T223224
CREATED:20250121T171138Z
LAST-MODIFIED:20250121T171138Z
UID:5743-1742718600-1742718600@www.tielensewielertoeristen.be
SUMMARY:B+ / B Keiheuvel 87KM
DESCRIPTION:Download rit
URL:https://www.tielensewielertoeristen.be/events/b-b-keiheuvel-87km-2
END:VEVENT
BEGIN:VEVENT
DTSTART;TZID=Europe/Brussels:20250323T083000
DTEND;TZID=Europe/Brussels:20250323T083000
DTSTAMP:20260423T223224
CREATED:20250121T171138Z
LAST-MODIFIED:20250121T171138Z
UID:5744-1742718600-1742718600@www.tielensewielertoeristen.be
SUMMARY:C Geel - Bel 77KM
DESCRIPTION:Download rit
URL:https://www.tielensewielertoeristen.be/events/c-geel-bel-77km-2
END:VEVENT
BEGIN:VEVENT
DTSTART;TZID=Europe/Brussels:20250322T083000
DTEND;TZID=Europe/Brussels:20250322T083000
DTSTAMP:20260423T223224
CREATED:20250121T171138Z
LAST-MODIFIED:20250225T075948Z
UID:5741-1742632200-1742632200@www.tielensewielertoeristen.be
SUMMARY:B+ / B Heidepad 132KM
DESCRIPTION:Download rit \nLet op! Deze rit is aangepast wegens werken. Dit is dus niet hetzelfde als andere jaren.
URL:https://www.tielensewielertoeristen.be/events/b-b-heidepad-132km
END:VEVENT
BEGIN:VEVENT
DTSTART;TZID=Europe/Brussels:20250322T083000
DTEND;TZID=Europe/Brussels:20250322T083000
DTSTAMP:20260423T223224
CREATED:20250121T171138Z
LAST-MODIFIED:20250121T171138Z
UID:5742-1742632200-1742632200@www.tielensewielertoeristen.be
SUMMARY:C Rondom Veerle 98KM
DESCRIPTION:Download rit
URL:https://www.tielensewielertoeristen.be/events/c-rondom-veerle-98km-2
END:VEVENT
BEGIN:VEVENT
DTSTART;TZID=Europe/Brussels:20250316T083000
DTEND;TZID=Europe/Brussels:20250316T083000
DTSTAMP:20260423T223224
CREATED:20250121T171138Z
LAST-MODIFIED:20250121T171138Z
UID:5740-1742113800-1742113800@www.tielensewielertoeristen.be
SUMMARY:C Rijkevorsel - Zondereigen 72KM
DESCRIPTION:Download rit
URL:https://www.tielensewielertoeristen.be/events/c-rijkevorsel-zondereigen-72km
END:VEVENT
BEGIN:VEVENT
DTSTART;TZID=Europe/Brussels:20250316T083000
DTEND;TZID=Europe/Brussels:20250316T083000
DTSTAMP:20260423T223224
CREATED:20250121T171136Z
LAST-MODIFIED:20250121T171136Z
UID:5739-1742113800-1742113800@www.tielensewielertoeristen.be
SUMMARY:B+ / B Booischot 80KM
DESCRIPTION:Download rit
URL:https://www.tielensewielertoeristen.be/events/b-b-booischot-80km-2
END:VEVENT
BEGIN:VEVENT
DTSTART;TZID=Europe/Brussels:20250309T083000
DTEND;TZID=Europe/Brussels:20250309T083000
DTSTAMP:20260423T223224
CREATED:20250121T171136Z
LAST-MODIFIED:20250121T171136Z
UID:5737-1741509000-1741509000@www.tielensewielertoeristen.be
SUMMARY:B+ / B Zoersel 75KM
DESCRIPTION:Download rit
URL:https://www.tielensewielertoeristen.be/events/b-b-zoersel-75km-2
END:VEVENT
BEGIN:VEVENT
DTSTART;TZID=Europe/Brussels:20250309T083000
DTEND;TZID=Europe/Brussels:20250309T083000
DTSTAMP:20260423T223224
CREATED:20250121T171136Z
LAST-MODIFIED:20250121T171136Z
UID:5738-1741509000-1741509000@www.tielensewielertoeristen.be
SUMMARY:C Viersel - Larum 58KM
DESCRIPTION:Download rit
URL:https://www.tielensewielertoeristen.be/events/c-viersel-larum-58km-2
END:VEVENT
BEGIN:VEVENT
DTSTART;TZID=Europe/Brussels:20250302T083000
DTEND;TZID=Europe/Brussels:20250302T083000
DTSTAMP:20260423T223224
CREATED:20250121T171136Z
LAST-MODIFIED:20250129T122923Z
UID:5736-1740904200-1740904200@www.tielensewielertoeristen.be
SUMMARY:C DESSEL 60KM (eindbestemming Sportcafé)
DESCRIPTION:Download rit
URL:https://www.tielensewielertoeristen.be/events/c-dessel-60km
END:VEVENT
BEGIN:VEVENT
DTSTART;TZID=Europe/Brussels:20250302T083000
DTEND;TZID=Europe/Brussels:20250302T083000
DTSTAMP:20260423T223224
CREATED:20250121T171136Z
LAST-MODIFIED:20250129T122925Z
UID:5735-1740904200-1740904200@www.tielensewielertoeristen.be
SUMMARY:B+ / B Rijkevorsel - Zondereigen 72KM (eindbestemming Sportcafé)
DESCRIPTION:Download rit
URL:https://www.tielensewielertoeristen.be/events/b-b-rijkevorsel-zondereigen-72km-2
END:VEVENT
BEGIN:VEVENT
DTSTART;TZID=Europe/Brussels:20250219T190000
DTEND;TZID=Europe/Brussels:20250219T210000
DTSTAMP:20260423T223224
CREATED:20250103T161316Z
LAST-MODIFIED:20250110T181247Z
UID:5698-1739991600-1739998800@www.tielensewielertoeristen.be
SUMMARY:Ophalen kledij
DESCRIPTION:Onze nieuwe TwT-kledij is aangekomen en klaar om opgehaald te worden! \nKom zeker op tijd jouw kleren afhalen\, zo kan jij het nieuwe seizoen meerijden met de nieuwe outfit!\nNeem cache of bankkaart mee om te betalen. Ook Payconiq kan gebruikt worden.
URL:https://www.tielensewielertoeristen.be/events/ophalen-kledij
END:VEVENT
BEGIN:VEVENT
DTSTART;TZID=Europe/Brussels:20241013T090000
DTEND;TZID=Europe/Brussels:20241013T090000
DTSTAMP:20260423T223224
CREATED:20241011T115913Z
LAST-MODIFIED:20241110T084515Z
UID:5582-1728810000-1728810000@www.tielensewielertoeristen.be
SUMMARY:C
DESCRIPTION:Het seizoen is jammer genoeg afgelopen.\nMaar natuurlijk rijden we bijden het seizoen gewon verder! \nDe baanfietsers starten een half uur later. A en B om 8.30u en C om 9u aan de oude Brandweer Tielen.\nMountainbikers B starten nog wel om 8u tenzij anders afgesproken. Wil je meefietsen met de B? Geef je naam door aan Joske.\nMountainbikers A kunnen zich melden bij Wim of Geert-Jan.
URL:https://www.tielensewielertoeristen.be/events/c
CATEGORIES:Buiten seizoen
END:VEVENT
BEGIN:VEVENT
DTSTART;TZID=Europe/Brussels:20241013T083000
DTEND;TZID=Europe/Brussels:20241013T083000
DTSTAMP:20260423T223224
CREATED:20241011T115753Z
LAST-MODIFIED:20241011T115753Z
UID:5580-1728808200-1728808200@www.tielensewielertoeristen.be
SUMMARY:A & B
DESCRIPTION:Het seizoen is jammer genoeg afgelopen.\nMaar natuurlijk rijden we bijden het seizoen gewon verder! \nDe baanfietsers starten een half uur later. A en B om 8.30u en C om 9u aan de oude Brandweer Tielen.\nMountainbikers B starten nog wel om 8u tenzij anders afgesproken. Wil je meefietsen met de B? Geef je naam door aan Joske.\nMountainbikers A kunnen zich melden bij Wim of Geert-Jan.
URL:https://www.tielensewielertoeristen.be/events/a-b
CATEGORIES:Buiten seizoen
END:VEVENT
BEGIN:VEVENT
DTSTART;TZID=Europe/Brussels:20241006T120000
DTEND;TZID=Europe/Brussels:20241006T220000
DTSTAMP:20260423T223224
CREATED:20240731T191936Z
LAST-MODIFIED:20240924T202542Z
UID:4680-1728216000-1728252000@www.tielensewielertoeristen.be
SUMMARY:Afsluitfeest
DESCRIPTION:
URL:https://www.tielensewielertoeristen.be/events/afsluitfeest
CATEGORIES:Einde seizoen
END:VEVENT
BEGIN:VEVENT
DTSTART;TZID=Europe/Brussels:20241006T080000
DTEND;TZID=Europe/Brussels:20241006T080000
DTSTAMP:20260423T223224
CREATED:20240731T191737Z
LAST-MODIFIED:20240731T191737Z
UID:4678-1728201600-1728201600@www.tielensewielertoeristen.be
SUMMARY:B+ / B Duffel 92KM
DESCRIPTION:Download rit
URL:https://www.tielensewielertoeristen.be/events/b-b-duffel-92km
END:VEVENT
BEGIN:VEVENT
DTSTART;TZID=Europe/Brussels:20241006T080000
DTEND;TZID=Europe/Brussels:20241006T080000
DTSTAMP:20260423T223224
CREATED:20240731T191737Z
LAST-MODIFIED:20240731T191737Z
UID:4679-1728201600-1728201600@www.tielensewielertoeristen.be
SUMMARY:C Afsluitrit 69KM
DESCRIPTION:Download rit
URL:https://www.tielensewielertoeristen.be/events/c-afsluitrit-69km
END:VEVENT
BEGIN:VEVENT
DTSTART;TZID=Europe/Brussels:20240929T080000
DTEND;TZID=Europe/Brussels:20240929T080000
DTSTAMP:20260423T223224
CREATED:20240731T191737Z
LAST-MODIFIED:20240731T191737Z
UID:4676-1727596800-1727596800@www.tielensewielertoeristen.be
SUMMARY:B+ / B Deurne Diest 95KM
DESCRIPTION:Download rit
URL:https://www.tielensewielertoeristen.be/events/b-b-deurne-diest-95km
END:VEVENT
BEGIN:VEVENT
DTSTART;TZID=Europe/Brussels:20240929T080000
DTEND;TZID=Europe/Brussels:20240929T080000
DTSTAMP:20260423T223224
CREATED:20240731T191737Z
LAST-MODIFIED:20240928T170727Z
UID:4677-1727596800-1727596800@www.tielensewielertoeristen.be
SUMMARY:C Arendonk 69KM
DESCRIPTION:Om problemen te voorkomen gelieve deze link op computer te openen.\n\nDownload rit\n\nToch via gsm? gebruik dan onze TwT-app
URL:https://www.tielensewielertoeristen.be/events/c-arendonk-69km
END:VEVENT
BEGIN:VEVENT
DTSTART;TZID=Europe/Brussels:20240928T090000
DTEND;TZID=Europe/Brussels:20240928T120000
DTSTAMP:20260423T223224
CREATED:20240822T181211Z
LAST-MODIFIED:20240822T181211Z
UID:4864-1727514000-1727524800@www.tielensewielertoeristen.be
SUMMARY:Pasdag nieuwe kledij 2
DESCRIPTION:Kom op een van onze pasmomenten om onze nieuwe wielerkleren te komen passen! \nWij voorzien van elke maat enkele stuks. Zodat je niet te lang moet wachten.\nGeef meteen jouw maten door en teken af. \nWij zien je graag in het Sportcafé!
URL:https://www.tielensewielertoeristen.be/events/pasdag-nieuwe-kledij-2
END:VEVENT
BEGIN:VEVENT
DTSTART;TZID=Europe/Brussels:20240927T180000
DTEND;TZID=Europe/Brussels:20240927T220000
DTSTAMP:20260423T223224
CREATED:20240822T181119Z
LAST-MODIFIED:20240822T181119Z
UID:4862-1727460000-1727474400@www.tielensewielertoeristen.be
SUMMARY:Pasdag nieuwe kledij 1
DESCRIPTION:Kom op een van onze pasmomenten om onze nieuwe wielerkleren te komen passen! \nWij voorzien van elke maat enkele stuks. Zodat je niet te lang moet wachten.\nGeef meteen jouw maten door en teken af. \nWij zien je graag in het Sportcafé!
URL:https://www.tielensewielertoeristen.be/events/pasdag-nieuwe-kledij-1
END:VEVENT
BEGIN:VEVENT
DTSTART;TZID=Europe/Brussels:20240922T080000
DTEND;TZID=Europe/Brussels:20240922T080000
DTSTAMP:20260423T223224
CREATED:20240731T191737Z
LAST-MODIFIED:20240731T191737Z
UID:4675-1726992000-1726992000@www.tielensewielertoeristen.be
SUMMARY:C Hulshout 72KM
DESCRIPTION:Download rit
URL:https://www.tielensewielertoeristen.be/events/c-hulshout-72km-2
END:VEVENT
BEGIN:VEVENT
DTSTART;TZID=Europe/Brussels:20240922T080000
DTEND;TZID=Europe/Brussels:20240922T080000
DTSTAMP:20260423T223224
CREATED:20240731T191537Z
LAST-MODIFIED:20240731T191537Z
UID:4674-1726992000-1726992000@www.tielensewielertoeristen.be
SUMMARY:B+ / B Beverlo 100KM
DESCRIPTION:Download rit
URL:https://www.tielensewielertoeristen.be/events/b-b-beverlo-100km
END:VEVENT
END:VCALENDAR