BEGIN:VCALENDAR
VERSION:2.0
PRODID:-//tielensewielertoeristen - ECPv6.15.20//NONSGML v1.0//EN
CALSCALE:GREGORIAN
METHOD:PUBLISH
X-ORIGINAL-URL:https://www.tielensewielertoeristen.be
X-WR-CALDESC:Events voor tielensewielertoeristen
REFRESH-INTERVAL;VALUE=DURATION:PT1H
X-Robots-Tag:noindex
X-PUBLISHED-TTL:PT1H
BEGIN:VTIMEZONE
TZID:Europe/Brussels
BEGIN:DAYLIGHT
TZOFFSETFROM:+0100
TZOFFSETTO:+0200
TZNAME:CEST
DTSTART:20230326T010000
END:DAYLIGHT
BEGIN:STANDARD
TZOFFSETFROM:+0200
TZOFFSETTO:+0100
TZNAME:CET
DTSTART:20231029T010000
END:STANDARD
BEGIN:DAYLIGHT
TZOFFSETFROM:+0100
TZOFFSETTO:+0200
TZNAME:CEST
DTSTART:20240331T010000
END:DAYLIGHT
BEGIN:STANDARD
TZOFFSETFROM:+0200
TZOFFSETTO:+0100
TZNAME:CET
DTSTART:20241027T010000
END:STANDARD
BEGIN:DAYLIGHT
TZOFFSETFROM:+0100
TZOFFSETTO:+0200
TZNAME:CEST
DTSTART:20250330T010000
END:DAYLIGHT
BEGIN:STANDARD
TZOFFSETFROM:+0200
TZOFFSETTO:+0100
TZNAME:CET
DTSTART:20251026T010000
END:STANDARD
END:VTIMEZONE
BEGIN:VEVENT
DTSTART;TZID=Europe/Brussels:20240929T080000
DTEND;TZID=Europe/Brussels:20240929T080000
DTSTAMP:20260424T014443
CREATED:20240731T191737Z
LAST-MODIFIED:20240731T191737Z
UID:4676-1727596800-1727596800@www.tielensewielertoeristen.be
SUMMARY:B+ / B Deurne Diest 95KM
DESCRIPTION:Download rit
URL:https://www.tielensewielertoeristen.be/events/b-b-deurne-diest-95km
END:VEVENT
BEGIN:VEVENT
DTSTART;TZID=Europe/Brussels:20240929T080000
DTEND;TZID=Europe/Brussels:20240929T080000
DTSTAMP:20260424T014443
CREATED:20240731T191737Z
LAST-MODIFIED:20240928T170727Z
UID:4677-1727596800-1727596800@www.tielensewielertoeristen.be
SUMMARY:C Arendonk 69KM
DESCRIPTION:Om problemen te voorkomen gelieve deze link op computer te openen.\n\nDownload rit\n\nToch via gsm? gebruik dan onze TwT-app
URL:https://www.tielensewielertoeristen.be/events/c-arendonk-69km
END:VEVENT
BEGIN:VEVENT
DTSTART;TZID=Europe/Brussels:20240928T090000
DTEND;TZID=Europe/Brussels:20240928T120000
DTSTAMP:20260424T014443
CREATED:20240822T181211Z
LAST-MODIFIED:20240822T181211Z
UID:4864-1727514000-1727524800@www.tielensewielertoeristen.be
SUMMARY:Pasdag nieuwe kledij 2
DESCRIPTION:Kom op een van onze pasmomenten om onze nieuwe wielerkleren te komen passen! \nWij voorzien van elke maat enkele stuks. Zodat je niet te lang moet wachten.\nGeef meteen jouw maten door en teken af. \nWij zien je graag in het Sportcafé!
URL:https://www.tielensewielertoeristen.be/events/pasdag-nieuwe-kledij-2
END:VEVENT
BEGIN:VEVENT
DTSTART;TZID=Europe/Brussels:20240927T180000
DTEND;TZID=Europe/Brussels:20240927T220000
DTSTAMP:20260424T014443
CREATED:20240822T181119Z
LAST-MODIFIED:20240822T181119Z
UID:4862-1727460000-1727474400@www.tielensewielertoeristen.be
SUMMARY:Pasdag nieuwe kledij 1
DESCRIPTION:Kom op een van onze pasmomenten om onze nieuwe wielerkleren te komen passen! \nWij voorzien van elke maat enkele stuks. Zodat je niet te lang moet wachten.\nGeef meteen jouw maten door en teken af. \nWij zien je graag in het Sportcafé!
URL:https://www.tielensewielertoeristen.be/events/pasdag-nieuwe-kledij-1
END:VEVENT
BEGIN:VEVENT
DTSTART;TZID=Europe/Brussels:20240922T080000
DTEND;TZID=Europe/Brussels:20240922T080000
DTSTAMP:20260424T014443
CREATED:20240731T191737Z
LAST-MODIFIED:20240731T191737Z
UID:4675-1726992000-1726992000@www.tielensewielertoeristen.be
SUMMARY:C Hulshout 72KM
DESCRIPTION:Download rit
URL:https://www.tielensewielertoeristen.be/events/c-hulshout-72km-2
END:VEVENT
BEGIN:VEVENT
DTSTART;TZID=Europe/Brussels:20240922T080000
DTEND;TZID=Europe/Brussels:20240922T080000
DTSTAMP:20260424T014443
CREATED:20240731T191537Z
LAST-MODIFIED:20240731T191537Z
UID:4674-1726992000-1726992000@www.tielensewielertoeristen.be
SUMMARY:B+ / B Beverlo 100KM
DESCRIPTION:Download rit
URL:https://www.tielensewielertoeristen.be/events/b-b-beverlo-100km
END:VEVENT
BEGIN:VEVENT
DTSTART;TZID=Europe/Brussels:20240915T000000
DTEND;TZID=Europe/Brussels:20240915T000000
DTSTAMP:20260424T014443
CREATED:20240731T191537Z
LAST-MODIFIED:20240731T191537Z
UID:4673-1726358400-1726358400@www.tielensewielertoeristen.be
SUMMARY:MTB + Gravelrit
DESCRIPTION:
URL:https://www.tielensewielertoeristen.be/events/mtb-gravelrit
CATEGORIES:MTB + Gravelrit
END:VEVENT
BEGIN:VEVENT
DTSTART;TZID=Europe/Brussels:20240914T080000
DTEND;TZID=Europe/Brussels:20240914T080000
DTSTAMP:20260424T014443
CREATED:20240731T191537Z
LAST-MODIFIED:20240731T191537Z
UID:4672-1726300800-1726300800@www.tielensewielertoeristen.be
SUMMARY:Afpijlen MTB
DESCRIPTION:
URL:https://www.tielensewielertoeristen.be/events/afpijlen-mtb
CATEGORIES:MTB + Gravelrit
END:VEVENT
BEGIN:VEVENT
DTSTART;TZID=Europe/Brussels:20240908T080000
DTEND;TZID=Europe/Brussels:20240908T080000
DTSTAMP:20260424T014443
CREATED:20240731T191537Z
LAST-MODIFIED:20240731T191537Z
UID:4671-1725782400-1725782400@www.tielensewielertoeristen.be
SUMMARY:C Bouwel Nijlen 79KM
DESCRIPTION:Download rit
URL:https://www.tielensewielertoeristen.be/events/c-bouwel-nijlen-79km-2
END:VEVENT
BEGIN:VEVENT
DTSTART;TZID=Europe/Brussels:20240908T080000
DTEND;TZID=Europe/Brussels:20240908T080000
DTSTAMP:20260424T014443
CREATED:20240731T191536Z
LAST-MODIFIED:20240731T191536Z
UID:4670-1725782400-1725782400@www.tielensewielertoeristen.be
SUMMARY:DAMES Keiheuvel Feminin 80KM
DESCRIPTION:Download rit
URL:https://www.tielensewielertoeristen.be/events/dames-keiheuvel-feminin-80km
END:VEVENT
BEGIN:VEVENT
DTSTART;TZID=Europe/Brussels:20240908T080000
DTEND;TZID=Europe/Brussels:20240908T080000
DTSTAMP:20260424T014443
CREATED:20240731T191532Z
LAST-MODIFIED:20240731T191532Z
UID:4669-1725782400-1725782400@www.tielensewielertoeristen.be
SUMMARY:B+ / B Heusden Zolder b 96KM
DESCRIPTION:Download rit
URL:https://www.tielensewielertoeristen.be/events/b-b-heusden-zolder-b-96km
END:VEVENT
BEGIN:VEVENT
DTSTART;TZID=Europe/Brussels:20240907T000000
DTEND;TZID=Europe/Brussels:20240907T000000
DTSTAMP:20260424T014443
CREATED:20240731T191532Z
LAST-MODIFIED:20240731T191532Z
UID:4668-1725667200-1725667200@www.tielensewielertoeristen.be
SUMMARY:Verkenning MTB toer
DESCRIPTION:
URL:https://www.tielensewielertoeristen.be/events/verkenning-mtb-toer
CATEGORIES:MTB + Gravelrit
END:VEVENT
BEGIN:VEVENT
DTSTART;TZID=Europe/Brussels:20240903T200000
DTEND;TZID=Europe/Brussels:20240903T200000
DTSTAMP:20260424T014443
CREATED:20240731T191532Z
LAST-MODIFIED:20240731T191532Z
UID:4667-1725393600-1725393600@www.tielensewielertoeristen.be
SUMMARY:MTB leden vergadering
DESCRIPTION:
URL:https://www.tielensewielertoeristen.be/events/mtb-leden-vergadering
CATEGORIES:MTB + Gravelrit
END:VEVENT
BEGIN:VEVENT
DTSTART;TZID=Europe/Brussels:20240901T080000
DTEND;TZID=Europe/Brussels:20240901T080000
DTSTAMP:20260424T014443
CREATED:20240731T191531Z
LAST-MODIFIED:20240731T191531Z
UID:4666-1725177600-1725177600@www.tielensewielertoeristen.be
SUMMARY:C Oosthem 85KM
DESCRIPTION:Download rit
URL:https://www.tielensewielertoeristen.be/events/c-oosthem-85km
END:VEVENT
BEGIN:VEVENT
DTSTART;TZID=Europe/Brussels:20240901T080000
DTEND;TZID=Europe/Brussels:20240901T080000
DTSTAMP:20260424T014443
CREATED:20240731T191531Z
LAST-MODIFIED:20240731T191531Z
UID:4665-1725177600-1725177600@www.tielensewielertoeristen.be
SUMMARY:B+ / B LD b 104KM
DESCRIPTION:Download rit
URL:https://www.tielensewielertoeristen.be/events/b-b-ld-b-104km
END:VEVENT
BEGIN:VEVENT
DTSTART;TZID=Europe/Brussels:20240825T080000
DTEND;TZID=Europe/Brussels:20240825T080000
DTSTAMP:20260424T014443
CREATED:20240628T153840Z
LAST-MODIFIED:20240628T153840Z
UID:4567-1724572800-1724572800@www.tielensewielertoeristen.be
SUMMARY:B+ / B Kanaaldijkpad 98KM
DESCRIPTION:Download rit
URL:https://www.tielensewielertoeristen.be/events/b-b-kanaaldijkpad-98km
END:VEVENT
BEGIN:VEVENT
DTSTART;TZID=Europe/Brussels:20240825T080000
DTEND;TZID=Europe/Brussels:20240825T080000
DTSTAMP:20260424T014443
CREATED:20240628T153840Z
LAST-MODIFIED:20240628T153840Z
UID:4568-1724572800-1724572800@www.tielensewielertoeristen.be
SUMMARY:C Molenstede 75KM
DESCRIPTION:Download rit
URL:https://www.tielensewielertoeristen.be/events/c-molenstede-75km
END:VEVENT
BEGIN:VEVENT
DTSTART;TZID=Europe/Brussels:20240818T080000
DTEND;TZID=Europe/Brussels:20240818T080000
DTSTAMP:20260424T014443
CREATED:20240628T153639Z
LAST-MODIFIED:20240628T153639Z
UID:4565-1723968000-1723968000@www.tielensewielertoeristen.be
SUMMARY:B+ / B Aarschot 99KM
DESCRIPTION:Download rit
URL:https://www.tielensewielertoeristen.be/events/b-b-aarschot-99km
END:VEVENT
BEGIN:VEVENT
DTSTART;TZID=Europe/Brussels:20240818T080000
DTEND;TZID=Europe/Brussels:20240818T080000
DTSTAMP:20260424T014443
CREATED:20240628T153639Z
LAST-MODIFIED:20240628T153639Z
UID:4566-1723968000-1723968000@www.tielensewielertoeristen.be
SUMMARY:C Zondereigen-Ulicoten 86KM
DESCRIPTION:Download rit
URL:https://www.tielensewielertoeristen.be/events/c-zondereigen-ulicoten-86km
END:VEVENT
BEGIN:VEVENT
DTSTART;TZID=Europe/Brussels:20240815T080000
DTEND;TZID=Europe/Brussels:20240815T080000
DTSTAMP:20260424T014443
CREATED:20240628T153639Z
LAST-MODIFIED:20240628T153639Z
UID:4564-1723708800-1723708800@www.tielensewielertoeristen.be
SUMMARY:C Herentals-Geel 78KM
DESCRIPTION:Download rit
URL:https://www.tielensewielertoeristen.be/events/c-herentals-geel-78km
END:VEVENT
BEGIN:VEVENT
DTSTART;TZID=Europe/Brussels:20240815T080000
DTEND;TZID=Europe/Brussels:20240815T080000
DTSTAMP:20260424T014443
CREATED:20240628T153639Z
LAST-MODIFIED:20240628T153639Z
UID:4563-1723708800-1723708800@www.tielensewielertoeristen.be
SUMMARY:B+ / B Scherpenheuvel 98KM
DESCRIPTION:Download rit
URL:https://www.tielensewielertoeristen.be/events/b-b-scherpenheuvel-98km
END:VEVENT
BEGIN:VEVENT
DTSTART;TZID=Europe/Brussels:20240811T080000
DTEND;TZID=Europe/Brussels:20240811T080000
DTSTAMP:20260424T014443
CREATED:20240628T153639Z
LAST-MODIFIED:20240628T153639Z
UID:4562-1723363200-1723363200@www.tielensewielertoeristen.be
SUMMARY:C Luycksgestel 87KM
DESCRIPTION:Download rit
URL:https://www.tielensewielertoeristen.be/events/c-luycksgestel-87km
END:VEVENT
BEGIN:VEVENT
DTSTART;TZID=Europe/Brussels:20240811T080000
DTEND;TZID=Europe/Brussels:20240811T080000
DTSTAMP:20260424T014443
CREATED:20240628T153637Z
LAST-MODIFIED:20240628T153637Z
UID:4561-1723363200-1723363200@www.tielensewielertoeristen.be
SUMMARY:B+ / B Chaam 94KM
DESCRIPTION:Download rit
URL:https://www.tielensewielertoeristen.be/events/b-b-chaam-94km
END:VEVENT
BEGIN:VEVENT
DTSTART;TZID=Europe/Brussels:20240811T063000
DTEND;TZID=Europe/Brussels:20240811T063000
DTSTAMP:20260424T014443
CREATED:20240628T153637Z
LAST-MODIFIED:20240809T145452Z
UID:4559-1723357800-1723357800@www.tielensewielertoeristen.be
SUMMARY:B+ / B Blankenberge 166KM
DESCRIPTION:Download rit
URL:https://www.tielensewielertoeristen.be/events/b-b-blankenberge-166km
CATEGORIES:Zeerit
END:VEVENT
BEGIN:VEVENT
DTSTART;TZID=Europe/Brussels:20240811T063000
DTEND;TZID=Europe/Brussels:20240811T063000
DTSTAMP:20260424T014443
CREATED:20240628T153637Z
LAST-MODIFIED:20240809T145514Z
UID:4560-1723357800-1723357800@www.tielensewielertoeristen.be
SUMMARY:C Blankenberge 166KM
DESCRIPTION:Download rit
URL:https://www.tielensewielertoeristen.be/events/c-blankenberge-166km
CATEGORIES:Zeerit
END:VEVENT
BEGIN:VEVENT
DTSTART;TZID=Europe/Brussels:20240804T080000
DTEND;TZID=Europe/Brussels:20240804T080000
DTSTAMP:20260424T014443
CREATED:20240628T153637Z
LAST-MODIFIED:20240628T153637Z
UID:4557-1722758400-1722758400@www.tielensewielertoeristen.be
SUMMARY:B+ / B Lommel-Kerkhof 99KM
DESCRIPTION:Download rit
URL:https://www.tielensewielertoeristen.be/events/b-b-lommel-kerkhof-99km
END:VEVENT
BEGIN:VEVENT
DTSTART;TZID=Europe/Brussels:20240804T080000
DTEND;TZID=Europe/Brussels:20240804T080000
DTSTAMP:20260424T014443
CREATED:20240628T153637Z
LAST-MODIFIED:20240628T153637Z
UID:4558-1722758400-1722758400@www.tielensewielertoeristen.be
SUMMARY:C Itegem 85KM
DESCRIPTION:Download rit
URL:https://www.tielensewielertoeristen.be/events/c-itegem-85km
END:VEVENT
BEGIN:VEVENT
DTSTART;TZID=Europe/Brussels:20240728T080000
DTEND;TZID=Europe/Brussels:20240728T080000
DTSTAMP:20260424T014443
CREATED:20240628T063851Z
LAST-MODIFIED:20240628T063851Z
UID:4553-1722153600-1722153600@www.tielensewielertoeristen.be
SUMMARY:B+ / B Ronde Van Itegem Licht 98KM
DESCRIPTION:Download rit
URL:https://www.tielensewielertoeristen.be/events/b-b-ronde-van-itegem-licht-98km
END:VEVENT
BEGIN:VEVENT
DTSTART;TZID=Europe/Brussels:20240728T080000
DTEND;TZID=Europe/Brussels:20240728T080000
DTSTAMP:20260424T014443
CREATED:20240628T063851Z
LAST-MODIFIED:20240628T063851Z
UID:4554-1722153600-1722153600@www.tielensewielertoeristen.be
SUMMARY:C Wuustwezel 80KM
DESCRIPTION:Download rit
URL:https://www.tielensewielertoeristen.be/events/c-wuustwezel-80km
END:VEVENT
BEGIN:VEVENT
DTSTART;TZID=Europe/Brussels:20240721T080000
DTEND;TZID=Europe/Brussels:20240721T080000
DTSTAMP:20260424T014443
CREATED:20240628T063851Z
LAST-MODIFIED:20240628T063851Z
UID:4552-1721548800-1721548800@www.tielensewielertoeristen.be
SUMMARY:C Booischot-Westmeerbeek 80KM
DESCRIPTION:Download rit
URL:https://www.tielensewielertoeristen.be/events/c-booischot-westmeerbeek-80km
END:VEVENT
END:VCALENDAR