BEGIN:VCALENDAR
VERSION:2.0
PRODID:-//tielensewielertoeristen - ECPv6.15.20//NONSGML v1.0//EN
CALSCALE:GREGORIAN
METHOD:PUBLISH
X-ORIGINAL-URL:https://www.tielensewielertoeristen.be
X-WR-CALDESC:Events voor tielensewielertoeristen
REFRESH-INTERVAL;VALUE=DURATION:PT1H
X-Robots-Tag:noindex
X-PUBLISHED-TTL:PT1H
BEGIN:VTIMEZONE
TZID:Europe/Brussels
BEGIN:DAYLIGHT
TZOFFSETFROM:+0100
TZOFFSETTO:+0200
TZNAME:CEST
DTSTART:20230326T010000
END:DAYLIGHT
BEGIN:STANDARD
TZOFFSETFROM:+0200
TZOFFSETTO:+0100
TZNAME:CET
DTSTART:20231029T010000
END:STANDARD
BEGIN:DAYLIGHT
TZOFFSETFROM:+0100
TZOFFSETTO:+0200
TZNAME:CEST
DTSTART:20240331T010000
END:DAYLIGHT
BEGIN:STANDARD
TZOFFSETFROM:+0200
TZOFFSETTO:+0100
TZNAME:CET
DTSTART:20241027T010000
END:STANDARD
BEGIN:DAYLIGHT
TZOFFSETFROM:+0100
TZOFFSETTO:+0200
TZNAME:CEST
DTSTART:20250330T010000
END:DAYLIGHT
BEGIN:STANDARD
TZOFFSETFROM:+0200
TZOFFSETTO:+0100
TZNAME:CET
DTSTART:20251026T010000
END:STANDARD
END:VTIMEZONE
BEGIN:VEVENT
DTSTART;TZID=Europe/Brussels:20240630T080000
DTEND;TZID=Europe/Brussels:20240630T080000
DTSTAMP:20260424T064332
CREATED:20240501T072032Z
LAST-MODIFIED:20240501T072032Z
UID:4472-1719734400-1719734400@www.tielensewielertoeristen.be
SUMMARY:C Hoge Mierde 77.5KM
DESCRIPTION:Download rit
URL:https://www.tielensewielertoeristen.be/events/c-hoge-mierde-77-5km
END:VEVENT
BEGIN:VEVENT
DTSTART;TZID=Europe/Brussels:20240623T080000
DTEND;TZID=Europe/Brussels:20240623T080000
DTSTAMP:20260424T064332
CREATED:20240501T072032Z
LAST-MODIFIED:20240501T072032Z
UID:4469-1719129600-1719129600@www.tielensewielertoeristen.be
SUMMARY:B+ / B Meerseldreef 100KM
DESCRIPTION:Download rit
URL:https://www.tielensewielertoeristen.be/events/b-b-meerseldreef-100km
END:VEVENT
BEGIN:VEVENT
DTSTART;TZID=Europe/Brussels:20240623T080000
DTEND;TZID=Europe/Brussels:20240623T080000
DTSTAMP:20260424T064332
CREATED:20240501T072032Z
LAST-MODIFIED:20240501T072032Z
UID:4470-1719129600-1719129600@www.tielensewielertoeristen.be
SUMMARY:C Weelde 83KM
DESCRIPTION:Download rit
URL:https://www.tielensewielertoeristen.be/events/c-weelde-83km
END:VEVENT
BEGIN:VEVENT
DTSTART;TZID=Europe/Brussels:20240622T080000
DTEND;TZID=Europe/Brussels:20240622T080000
DTSTAMP:20260424T064332
CREATED:20240501T071832Z
LAST-MODIFIED:20240501T071832Z
UID:4467-1719043200-1719043200@www.tielensewielertoeristen.be
SUMMARY:B+ / B Kumtich-Oorbeek 168KM
DESCRIPTION:Download rit
URL:https://www.tielensewielertoeristen.be/events/b-b-kumtich-oorbeek-168km
END:VEVENT
BEGIN:VEVENT
DTSTART;TZID=Europe/Brussels:20240622T080000
DTEND;TZID=Europe/Brussels:20240622T080000
DTSTAMP:20260424T064332
CREATED:20240501T071832Z
LAST-MODIFIED:20240501T071832Z
UID:4468-1719043200-1719043200@www.tielensewielertoeristen.be
SUMMARY:C Hamont Achel 118KM
DESCRIPTION:Download rit
URL:https://www.tielensewielertoeristen.be/events/c-hamont-achel-118km
END:VEVENT
BEGIN:VEVENT
DTSTART;TZID=Europe/Brussels:20240616T080000
DTEND;TZID=Europe/Brussels:20240616T080000
DTSTAMP:20260424T064332
CREATED:20240513T054533Z
LAST-MODIFIED:20240513T054533Z
UID:4494-1718524800-1718524800@www.tielensewielertoeristen.be
SUMMARY:C Wiksroute 80KM
DESCRIPTION:Download rit
URL:https://www.tielensewielertoeristen.be/events/c-wiksroute-80km
END:VEVENT
BEGIN:VEVENT
DTSTART;TZID=Europe/Brussels:20240616T080000
DTEND;TZID=Europe/Brussels:20240616T080000
DTSTAMP:20260424T064332
CREATED:20240513T054321Z
LAST-MODIFIED:20240513T054411Z
UID:4490-1718524800-1718524800@www.tielensewielertoeristen.be
SUMMARY:B+ / B Chartreuse light 104KM
DESCRIPTION:Download rit
URL:https://www.tielensewielertoeristen.be/events/b-b-chartreuse-light
END:VEVENT
BEGIN:VEVENT
DTSTART;TZID=Europe/Brussels:20240609T080000
DTEND;TZID=Europe/Brussels:20240609T080000
DTSTAMP:20260424T064332
CREATED:20240501T071832Z
LAST-MODIFIED:20240501T071832Z
UID:4466-1717920000-1717920000@www.tielensewielertoeristen.be
SUMMARY:C Keiheuvel 87KM
DESCRIPTION:Download rit
URL:https://www.tielensewielertoeristen.be/events/c-keiheuvel-87km
END:VEVENT
BEGIN:VEVENT
DTSTART;TZID=Europe/Brussels:20240609T080000
DTEND;TZID=Europe/Brussels:20240609T080000
DTSTAMP:20260424T064332
CREATED:20240501T071831Z
LAST-MODIFIED:20240501T071831Z
UID:4465-1717920000-1717920000@www.tielensewielertoeristen.be
SUMMARY:B+ / B Paal 107KM
DESCRIPTION:Download rit
URL:https://www.tielensewielertoeristen.be/events/b-b-paal-107km
END:VEVENT
BEGIN:VEVENT
DTSTART;TZID=Europe/Brussels:20240602T080000
DTEND;TZID=Europe/Brussels:20240602T080000
DTSTAMP:20260424T064332
CREATED:20240501T071831Z
LAST-MODIFIED:20240501T071831Z
UID:4464-1717315200-1717315200@www.tielensewielertoeristen.be
SUMMARY:C Zundert 83KM
DESCRIPTION:Download rit
URL:https://www.tielensewielertoeristen.be/events/c-zundert-83km
END:VEVENT
BEGIN:VEVENT
DTSTART;TZID=Europe/Brussels:20240602T080000
DTEND;TZID=Europe/Brussels:20240602T080000
DTSTAMP:20260424T064332
CREATED:20240501T071830Z
LAST-MODIFIED:20240518T185421Z
UID:4461-1717315200-1717315200@www.tielensewielertoeristen.be
SUMMARY:B+ / B Voeren-Tielen 139KM
DESCRIPTION:Download rit
URL:https://www.tielensewielertoeristen.be/events/b-b-voeren-tielen-139km
CATEGORIES:3 daagse Voeren
END:VEVENT
BEGIN:VEVENT
DTSTART;TZID=Europe/Brussels:20240602T080000
DTEND;TZID=Europe/Brussels:20240602T080000
DTSTAMP:20260424T064332
CREATED:20240501T071830Z
LAST-MODIFIED:20240518T210505Z
UID:4462-1717315200-1717315200@www.tielensewielertoeristen.be
SUMMARY:C Voeren-Tielen 115KM
DESCRIPTION:Download rit
URL:https://www.tielensewielertoeristen.be/events/c-voeren-tielen-115km
CATEGORIES:3 daagse Voeren
END:VEVENT
BEGIN:VEVENT
DTSTART;TZID=Europe/Brussels:20240602T080000
DTEND;TZID=Europe/Brussels:20240602T080000
DTSTAMP:20260424T064332
CREATED:20240501T071830Z
LAST-MODIFIED:20240501T071830Z
UID:4463-1717315200-1717315200@www.tielensewielertoeristen.be
SUMMARY:B+ / B Luycksgestel 100KM
DESCRIPTION:Download rit
URL:https://www.tielensewielertoeristen.be/events/b-b-luycksgestel-100km
END:VEVENT
BEGIN:VEVENT
DTSTART;TZID=Europe/Brussels:20240601T080000
DTEND;TZID=Europe/Brussels:20240601T080000
DTSTAMP:20260424T064332
CREATED:20240501T071829Z
LAST-MODIFIED:20240518T185833Z
UID:4460-1717228800-1717228800@www.tielensewielertoeristen.be
SUMMARY:C Voeren-Lanklaar 97KM
DESCRIPTION:Download rit
URL:https://www.tielensewielertoeristen.be/events/c-voeren-lanklaar-97km
CATEGORIES:3 daagse Voeren
END:VEVENT
BEGIN:VEVENT
DTSTART;TZID=Europe/Brussels:20240601T080000
DTEND;TZID=Europe/Brussels:20240601T080000
DTSTAMP:20260424T064332
CREATED:20240501T071829Z
LAST-MODIFIED:20240518T185751Z
UID:4459-1717228800-1717228800@www.tielensewielertoeristen.be
SUMMARY:B+ / B Voeren-Vaals 127KM
DESCRIPTION:Download rit
URL:https://www.tielensewielertoeristen.be/events/b-b-voeren-vaals-127km
CATEGORIES:3 daagse Voeren
END:VEVENT
BEGIN:VEVENT
DTSTART;TZID=Europe/Brussels:20240531T083000
DTEND;TZID=Europe/Brussels:20240531T083000
DTSTAMP:20260424T064333
CREATED:20240519T140431Z
LAST-MODIFIED:20240529T155320Z
UID:4514-1717144200-1717144200@www.tielensewielertoeristen.be
SUMMARY:C Tielen-Voeren 113KM
DESCRIPTION:Download rit
URL:https://www.tielensewielertoeristen.be/events/c-tielen-voeren-113km-2
CATEGORIES:3 daagse Voeren
END:VEVENT
BEGIN:VEVENT
DTSTART;TZID=Europe/Brussels:20240531T083000
DTEND;TZID=Europe/Brussels:20240531T083000
DTSTAMP:20260424T064333
CREATED:20240518T193211Z
LAST-MODIFIED:20240529T155329Z
UID:4508-1717144200-1717144200@www.tielensewielertoeristen.be
SUMMARY:B+ / B Tielen-Voeren 152KM
DESCRIPTION:Download rit
URL:https://www.tielensewielertoeristen.be/events/b-b-tielen-voeren-152km
CATEGORIES:3 daagse Voeren
END:VEVENT
BEGIN:VEVENT
DTSTART;TZID=Europe/Brussels:20240526T080000
DTEND;TZID=Europe/Brussels:20240526T080000
DTSTAMP:20260424T064333
CREATED:20240323T155107Z
LAST-MODIFIED:20240323T155350Z
UID:4220-1716710400-1716710400@www.tielensewielertoeristen.be
SUMMARY:C Oostham 85KM
DESCRIPTION:Download rit
URL:https://www.tielensewielertoeristen.be/events/c-oostham-85km
END:VEVENT
BEGIN:VEVENT
DTSTART;TZID=Europe/Brussels:20240526T080000
DTEND;TZID=Europe/Brussels:20240526T080000
DTSTAMP:20260424T064333
CREATED:20240323T154907Z
LAST-MODIFIED:20240323T161853Z
UID:4219-1716710400-1716710400@www.tielensewielertoeristen.be
SUMMARY:B+ / B Vlooybergtoren 110KM
DESCRIPTION:Download rit
URL:https://www.tielensewielertoeristen.be/events/b-b-vlooybergtoren-110km
END:VEVENT
BEGIN:VEVENT
DTSTART;TZID=Europe/Brussels:20240520T080000
DTEND;TZID=Europe/Brussels:20240520T080000
DTSTAMP:20260424T064333
CREATED:20240323T154907Z
LAST-MODIFIED:20240323T161924Z
UID:4217-1716192000-1716192000@www.tielensewielertoeristen.be
SUMMARY:B+ / B Hooge Mierde_light 96KM
DESCRIPTION:Download rit
URL:https://www.tielensewielertoeristen.be/events/b-b-hooge-mierde_light-96km
END:VEVENT
BEGIN:VEVENT
DTSTART;TZID=Europe/Brussels:20240520T080000
DTEND;TZID=Europe/Brussels:20240520T080000
DTSTAMP:20260424T064333
CREATED:20240323T154907Z
LAST-MODIFIED:20240323T162035Z
UID:4218-1716192000-1716192000@www.tielensewielertoeristen.be
SUMMARY:C Wortel 79KM
DESCRIPTION:Download rit
URL:https://www.tielensewielertoeristen.be/events/c-wortel-79km
END:VEVENT
BEGIN:VEVENT
DTSTART;TZID=Europe/Brussels:20240519T080000
DTEND;TZID=Europe/Brussels:20240519T080000
DTSTAMP:20260424T064333
CREATED:20240323T154907Z
LAST-MODIFIED:20240323T162431Z
UID:4215-1716105600-1716105600@www.tielensewielertoeristen.be
SUMMARY:B+ / B Houwaart 103KM
DESCRIPTION:Download rit
URL:https://www.tielensewielertoeristen.be/events/b-b-houwaart-103km
END:VEVENT
BEGIN:VEVENT
DTSTART;TZID=Europe/Brussels:20240519T080000
DTEND;TZID=Europe/Brussels:20240519T080000
DTSTAMP:20260424T064333
CREATED:20240323T154907Z
LAST-MODIFIED:20240323T162506Z
UID:4216-1716105600-1716105600@www.tielensewielertoeristen.be
SUMMARY:C Scherpenheuvel 80KM
DESCRIPTION:Download rit
URL:https://www.tielensewielertoeristen.be/events/c-scherpenheuvel-80km
END:VEVENT
BEGIN:VEVENT
DTSTART;TZID=Europe/Brussels:20240512T080000
DTEND;TZID=Europe/Brussels:20240512T080000
DTSTAMP:20260424T064333
CREATED:20240323T154709Z
LAST-MODIFIED:20240323T162541Z
UID:4214-1715500800-1715500800@www.tielensewielertoeristen.be
SUMMARY:C Hulshout 72KM
DESCRIPTION:Download rit
URL:https://www.tielensewielertoeristen.be/events/c-hulshout-72km
END:VEVENT
BEGIN:VEVENT
DTSTART;TZID=Europe/Brussels:20240512T080000
DTEND;TZID=Europe/Brussels:20240512T080000
DTSTAMP:20260424T064333
CREATED:20240323T154708Z
LAST-MODIFIED:20240323T162626Z
UID:4213-1715500800-1715500800@www.tielensewielertoeristen.be
SUMMARY:B+ B Gijmel 95KM
DESCRIPTION:Download rit
URL:https://www.tielensewielertoeristen.be/events/b-b-gijmel-95km
END:VEVENT
BEGIN:VEVENT
DTSTART;TZID=Europe/Brussels:20240511T080000
DTEND;TZID=Europe/Brussels:20240511T080000
DTSTAMP:20260424T064333
CREATED:20240323T154708Z
LAST-MODIFIED:20240329T101043Z
UID:4212-1715414400-1715414400@www.tielensewielertoeristen.be
SUMMARY:C  Heidepad 132KM
DESCRIPTION:Download rit
URL:https://www.tielensewielertoeristen.be/events/c-heidepad-132km
END:VEVENT
BEGIN:VEVENT
DTSTART;TZID=Europe/Brussels:20240511T080000
DTEND;TZID=Europe/Brussels:20240511T080000
DTSTAMP:20260424T064333
CREATED:20240323T154707Z
LAST-MODIFIED:20240329T101044Z
UID:4211-1715414400-1715414400@www.tielensewielertoeristen.be
SUMMARY:A / B Willemstad 182KM
DESCRIPTION:Download rit
URL:https://www.tielensewielertoeristen.be/events/a-b-willemstad-182km
END:VEVENT
BEGIN:VEVENT
DTSTART;TZID=Europe/Brussels:20240509T080000
DTEND;TZID=Europe/Brussels:20240509T080000
DTSTAMP:20260424T064333
CREATED:20240323T154706Z
LAST-MODIFIED:20240323T162758Z
UID:4210-1715241600-1715241600@www.tielensewielertoeristen.be
SUMMARY:C Olmen 82KM
DESCRIPTION:Download rit
URL:https://www.tielensewielertoeristen.be/events/c-olmen-82km
END:VEVENT
BEGIN:VEVENT
DTSTART;TZID=Europe/Brussels:20240509T080000
DTEND;TZID=Europe/Brussels:20240509T080000
DTSTAMP:20260424T064333
CREATED:20240323T154705Z
LAST-MODIFIED:20240323T162852Z
UID:4209-1715241600-1715241600@www.tielensewielertoeristen.be
SUMMARY:B+ / B Kerkhoven 90KM
DESCRIPTION:Download rit
URL:https://www.tielensewielertoeristen.be/events/b-b-kerkhoven-90km
END:VEVENT
BEGIN:VEVENT
DTSTART;TZID=Europe/Brussels:20240505T080000
DTEND;TZID=Europe/Brussels:20240505T080000
DTSTAMP:20260424T064333
CREATED:20240323T154704Z
LAST-MODIFIED:20240323T162930Z
UID:4207-1714896000-1714896000@www.tielensewielertoeristen.be
SUMMARY:B+ / B Keerbergen-Rotselaar 109KM
DESCRIPTION:Download rit
URL:https://www.tielensewielertoeristen.be/events/b-b-keerbergen-rotselaar-109km
END:VEVENT
END:VCALENDAR