BEGIN:VCALENDAR
VERSION:2.0
PRODID:-//tielensewielertoeristen - ECPv6.15.20//NONSGML v1.0//EN
CALSCALE:GREGORIAN
METHOD:PUBLISH
X-ORIGINAL-URL:https://www.tielensewielertoeristen.be
X-WR-CALDESC:Events voor tielensewielertoeristen
REFRESH-INTERVAL;VALUE=DURATION:PT1H
X-Robots-Tag:noindex
X-PUBLISHED-TTL:PT1H
BEGIN:VTIMEZONE
TZID:Europe/Brussels
BEGIN:DAYLIGHT
TZOFFSETFROM:+0100
TZOFFSETTO:+0200
TZNAME:CEST
DTSTART:20230326T010000
END:DAYLIGHT
BEGIN:STANDARD
TZOFFSETFROM:+0200
TZOFFSETTO:+0100
TZNAME:CET
DTSTART:20231029T010000
END:STANDARD
BEGIN:DAYLIGHT
TZOFFSETFROM:+0100
TZOFFSETTO:+0200
TZNAME:CEST
DTSTART:20240331T010000
END:DAYLIGHT
BEGIN:STANDARD
TZOFFSETFROM:+0200
TZOFFSETTO:+0100
TZNAME:CET
DTSTART:20241027T010000
END:STANDARD
BEGIN:DAYLIGHT
TZOFFSETFROM:+0100
TZOFFSETTO:+0200
TZNAME:CEST
DTSTART:20250330T010000
END:DAYLIGHT
BEGIN:STANDARD
TZOFFSETFROM:+0200
TZOFFSETTO:+0100
TZNAME:CET
DTSTART:20251026T010000
END:STANDARD
END:VTIMEZONE
BEGIN:VEVENT
DTSTART;TZID=Europe/Brussels:20240512T080000
DTEND;TZID=Europe/Brussels:20240512T080000
DTSTAMP:20260424T102216
CREATED:20240323T154708Z
LAST-MODIFIED:20240323T162626Z
UID:4213-1715500800-1715500800@www.tielensewielertoeristen.be
SUMMARY:B+ B Gijmel 95KM
DESCRIPTION:Download rit
URL:https://www.tielensewielertoeristen.be/events/b-b-gijmel-95km
END:VEVENT
BEGIN:VEVENT
DTSTART;TZID=Europe/Brussels:20240511T080000
DTEND;TZID=Europe/Brussels:20240511T080000
DTSTAMP:20260424T102216
CREATED:20240323T154708Z
LAST-MODIFIED:20240329T101043Z
UID:4212-1715414400-1715414400@www.tielensewielertoeristen.be
SUMMARY:C  Heidepad 132KM
DESCRIPTION:Download rit
URL:https://www.tielensewielertoeristen.be/events/c-heidepad-132km
END:VEVENT
BEGIN:VEVENT
DTSTART;TZID=Europe/Brussels:20240511T080000
DTEND;TZID=Europe/Brussels:20240511T080000
DTSTAMP:20260424T102216
CREATED:20240323T154707Z
LAST-MODIFIED:20240329T101044Z
UID:4211-1715414400-1715414400@www.tielensewielertoeristen.be
SUMMARY:A / B Willemstad 182KM
DESCRIPTION:Download rit
URL:https://www.tielensewielertoeristen.be/events/a-b-willemstad-182km
END:VEVENT
BEGIN:VEVENT
DTSTART;TZID=Europe/Brussels:20240509T080000
DTEND;TZID=Europe/Brussels:20240509T080000
DTSTAMP:20260424T102216
CREATED:20240323T154706Z
LAST-MODIFIED:20240323T162758Z
UID:4210-1715241600-1715241600@www.tielensewielertoeristen.be
SUMMARY:C Olmen 82KM
DESCRIPTION:Download rit
URL:https://www.tielensewielertoeristen.be/events/c-olmen-82km
END:VEVENT
BEGIN:VEVENT
DTSTART;TZID=Europe/Brussels:20240509T080000
DTEND;TZID=Europe/Brussels:20240509T080000
DTSTAMP:20260424T102216
CREATED:20240323T154705Z
LAST-MODIFIED:20240323T162852Z
UID:4209-1715241600-1715241600@www.tielensewielertoeristen.be
SUMMARY:B+ / B Kerkhoven 90KM
DESCRIPTION:Download rit
URL:https://www.tielensewielertoeristen.be/events/b-b-kerkhoven-90km
END:VEVENT
BEGIN:VEVENT
DTSTART;TZID=Europe/Brussels:20240505T080000
DTEND;TZID=Europe/Brussels:20240505T080000
DTSTAMP:20260424T102216
CREATED:20240323T154704Z
LAST-MODIFIED:20240323T162930Z
UID:4207-1714896000-1714896000@www.tielensewielertoeristen.be
SUMMARY:B+ / B Keerbergen-Rotselaar 109KM
DESCRIPTION:Download rit
URL:https://www.tielensewielertoeristen.be/events/b-b-keerbergen-rotselaar-109km
END:VEVENT
BEGIN:VEVENT
DTSTART;TZID=Europe/Brussels:20240505T080000
DTEND;TZID=Europe/Brussels:20240505T080000
DTSTAMP:20260424T102216
CREATED:20240323T154704Z
LAST-MODIFIED:20240323T163010Z
UID:4208-1714896000-1714896000@www.tielensewielertoeristen.be
SUMMARY:C Zonderschot 84KM
DESCRIPTION:Download rit
URL:https://www.tielensewielertoeristen.be/events/c-zonderschot-84km
END:VEVENT
BEGIN:VEVENT
DTSTART;TZID=Europe/Brussels:20240501T080000
DTEND;TZID=Europe/Brussels:20240501T080000
DTSTAMP:20260424T102216
CREATED:20240323T154703Z
LAST-MODIFIED:20240323T163043Z
UID:4206-1714550400-1714550400@www.tielensewielertoeristen.be
SUMMARY:C Bouwel-Nijlen 79KM
DESCRIPTION:Download rit
URL:https://www.tielensewielertoeristen.be/events/c-bouwel-nijlen-79km
END:VEVENT
BEGIN:VEVENT
DTSTART;TZID=Europe/Brussels:20240501T080000
DTEND;TZID=Europe/Brussels:20240501T080000
DTSTAMP:20260424T102216
CREATED:20240323T154702Z
LAST-MODIFIED:20240323T163112Z
UID:4205-1714550400-1714550400@www.tielensewielertoeristen.be
SUMMARY:B+ / B Heidepad (ingekort) 100KM
DESCRIPTION:Download rit
URL:https://www.tielensewielertoeristen.be/events/b-b-heidepad-ingekort-100km
END:VEVENT
BEGIN:VEVENT
DTSTART;TZID=Europe/Brussels:20240428T080000
DTEND;TZID=Europe/Brussels:20240428T080000
DTSTAMP:20260424T102216
CREATED:20240312T123114Z
LAST-MODIFIED:20240312T123114Z
UID:4126-1714291200-1714291200@www.tielensewielertoeristen.be
SUMMARY:B+ / B Jef Claessen Classic
DESCRIPTION:Download rit
URL:https://www.tielensewielertoeristen.be/events/b-b-jef-claessen-classic
END:VEVENT
BEGIN:VEVENT
DTSTART;TZID=Europe/Brussels:20240428T080000
DTEND;TZID=Europe/Brussels:20240428T080000
DTSTAMP:20260424T102216
CREATED:20240312T123001Z
LAST-MODIFIED:20240312T123001Z
UID:4125-1714291200-1714291200@www.tielensewielertoeristen.be
SUMMARY:C Laakdal Averbode
DESCRIPTION:Download rit
URL:https://www.tielensewielertoeristen.be/events/c-laakdal-averbode
END:VEVENT
BEGIN:VEVENT
DTSTART;TZID=Europe/Brussels:20240421T080000
DTEND;TZID=Europe/Brussels:20240421T080000
DTSTAMP:20260424T102216
CREATED:20240225T130625Z
LAST-MODIFIED:20240225T131030Z
UID:3907-1713686400-1713686400@www.tielensewielertoeristen.be
SUMMARY:B+ B / Hooge Mierde 103KM
DESCRIPTION:Download rit
URL:https://www.tielensewielertoeristen.be/events/b-b-hooge-mierde-103km
END:VEVENT
BEGIN:VEVENT
DTSTART;TZID=Europe/Brussels:20240421T080000
DTEND;TZID=Europe/Brussels:20240421T080000
DTSTAMP:20260424T102216
CREATED:20240225T130625Z
LAST-MODIFIED:20240329T100819Z
UID:3908-1713686400-1713686400@www.tielensewielertoeristen.be
SUMMARY:C Bert’s route Meer 81KM
DESCRIPTION:Download rit
URL:https://www.tielensewielertoeristen.be/events/c-berts-route-meer-81km
END:VEVENT
BEGIN:VEVENT
DTSTART;TZID=Europe/Brussels:20240420T080000
DTEND;TZID=Europe/Brussels:20240420T080000
DTSTAMP:20260424T102216
CREATED:20240225T130625Z
LAST-MODIFIED:20240329T101125Z
UID:3905-1713600000-1713600000@www.tielensewielertoeristen.be
SUMMARY:A & B Rondje Sint-Truiden 172KM
DESCRIPTION:Download rit
URL:https://www.tielensewielertoeristen.be/events/a-b-rondje-sint-truiden-172km
END:VEVENT
BEGIN:VEVENT
DTSTART;TZID=Europe/Brussels:20240420T080000
DTEND;TZID=Europe/Brussels:20240420T080000
DTSTAMP:20260424T102216
CREATED:20240225T130625Z
LAST-MODIFIED:20240329T101125Z
UID:3906-1713600000-1713600000@www.tielensewielertoeristen.be
SUMMARY:C  Vlooybergtoren_light 98KM
DESCRIPTION:Download rit
URL:https://www.tielensewielertoeristen.be/events/c-vlooybergtoren_light-98km
END:VEVENT
BEGIN:VEVENT
DTSTART;TZID=Europe/Brussels:20240414T080000
DTEND;TZID=Europe/Brussels:20240414T080000
DTSTAMP:20260424T102216
CREATED:20240225T130624Z
LAST-MODIFIED:20240329T100919Z
UID:3904-1713081600-1713081600@www.tielensewielertoeristen.be
SUMMARY:C Deurne-Diest 79KM
DESCRIPTION:Download rit
URL:https://www.tielensewielertoeristen.be/events/c-deurne-diest-79km
END:VEVENT
BEGIN:VEVENT
DTSTART;TZID=Europe/Brussels:20240414T080000
DTEND;TZID=Europe/Brussels:20240414T080000
DTSTAMP:20260424T102216
CREATED:20240225T130623Z
LAST-MODIFIED:20240329T100713Z
UID:3903-1713081600-1713081600@www.tielensewielertoeristen.be
SUMMARY:B+ / B Heist 105KM
DESCRIPTION:Download rit
URL:https://www.tielensewielertoeristen.be/events/b-b-heist-105km
END:VEVENT
BEGIN:VEVENT
DTSTART;TZID=Europe/Brussels:20240407T080000
DTEND;TZID=Europe/Brussels:20240407T080000
DTSTAMP:20260424T102216
CREATED:20240225T130623Z
LAST-MODIFIED:20240329T100629Z
UID:3901-1712476800-1712476800@www.tielensewielertoeristen.be
SUMMARY:B+ / B Schaffen-Meldert-Zelem 100km
DESCRIPTION:Download rit
URL:https://www.tielensewielertoeristen.be/events/b-b-schaffen-meldert-zelem-100km
END:VEVENT
BEGIN:VEVENT
DTSTART;TZID=Europe/Brussels:20240407T080000
DTEND;TZID=Europe/Brussels:20240407T080000
DTSTAMP:20260424T102216
CREATED:20240225T130623Z
LAST-MODIFIED:20240329T100652Z
UID:3902-1712476800-1712476800@www.tielensewielertoeristen.be
SUMMARY:C Lier-Berlaar 81KM
DESCRIPTION:Download rit
URL:https://www.tielensewielertoeristen.be/events/c-lier-berlaar-81km
END:VEVENT
BEGIN:VEVENT
DTSTART;TZID=Europe/Brussels:20240401T080000
DTEND;TZID=Europe/Brussels:20240401T080000
DTSTAMP:20260424T102216
CREATED:20240225T130623Z
LAST-MODIFIED:20240329T100506Z
UID:3899-1711958400-1711958400@www.tielensewielertoeristen.be
SUMMARY:B+ / B Paal 100KM
DESCRIPTION:Download rit
URL:https://www.tielensewielertoeristen.be/events/b-b-paal-100km
END:VEVENT
BEGIN:VEVENT
DTSTART;TZID=Europe/Brussels:20240401T080000
DTEND;TZID=Europe/Brussels:20240401T080000
DTSTAMP:20260424T102216
CREATED:20240225T130623Z
LAST-MODIFIED:20240329T100603Z
UID:3900-1711958400-1711958400@www.tielensewielertoeristen.be
SUMMARY:C Lommel Sahara 80KM
DESCRIPTION:Download rit
URL:https://www.tielensewielertoeristen.be/events/c-lommel-sahara-80km
END:VEVENT
BEGIN:VEVENT
DTSTART;TZID=Europe/Brussels:20240331T083000
DTEND;TZID=Europe/Brussels:20240331T083000
DTSTAMP:20260424T102216
CREATED:20240317T132622Z
LAST-MODIFIED:20240329T100427Z
UID:4145-1711873800-1711873800@www.tielensewielertoeristen.be
SUMMARY:C Booischot 80KM
DESCRIPTION:Download rit
URL:https://www.tielensewielertoeristen.be/events/c-booischot-80km
END:VEVENT
BEGIN:VEVENT
DTSTART;TZID=Europe/Brussels:20240331T083000
DTEND;TZID=Europe/Brussels:20240331T083000
DTSTAMP:20260424T102216
CREATED:20240317T132517Z
LAST-MODIFIED:20240329T100403Z
UID:4144-1711873800-1711873800@www.tielensewielertoeristen.be
SUMMARY:B+ / B Poppel 95KM
DESCRIPTION:Download rit
URL:https://www.tielensewielertoeristen.be/events/b-b-poppel-95km
END:VEVENT
BEGIN:VEVENT
DTSTART;TZID=Europe/Brussels:20240324T083000
DTEND;TZID=Europe/Brussels:20240324T083000
DTSTAMP:20260424T102216
CREATED:20240115T192536Z
LAST-MODIFIED:20240329T100340Z
UID:2932-1711269000-1711269000@www.tielensewielertoeristen.be
SUMMARY:C Geel-Bel 77KM
DESCRIPTION:Download rit
URL:https://www.tielensewielertoeristen.be/events/c-geel-bel-77km
END:VEVENT
BEGIN:VEVENT
DTSTART;TZID=Europe/Brussels:20240324T083000
DTEND;TZID=Europe/Brussels:20240324T083000
DTSTAMP:20260424T102216
CREATED:20240115T192536Z
LAST-MODIFIED:20240329T100320Z
UID:2931-1711269000-1711269000@www.tielensewielertoeristen.be
SUMMARY:B+ B / Keiheuvel 87KM
DESCRIPTION:Download rit
URL:https://www.tielensewielertoeristen.be/events/b-b-keiheuvel-87km
END:VEVENT
BEGIN:VEVENT
DTSTART;TZID=Europe/Brussels:20240323T083000
DTEND;TZID=Europe/Brussels:20240323T083000
DTSTAMP:20260424T102216
CREATED:20240115T192536Z
LAST-MODIFIED:20240329T101206Z
UID:2929-1711182600-1711182600@www.tielensewielertoeristen.be
SUMMARY:A / B Heidepad 132KM
DESCRIPTION:Download rit
URL:https://www.tielensewielertoeristen.be/events/a-b-heidepad-132km
END:VEVENT
BEGIN:VEVENT
DTSTART;TZID=Europe/Brussels:20240323T083000
DTEND;TZID=Europe/Brussels:20240323T083000
DTSTAMP:20260424T102216
CREATED:20240115T192536Z
LAST-MODIFIED:20240329T101206Z
UID:2930-1711182600-1711182600@www.tielensewielertoeristen.be
SUMMARY:C Rondom Veerle 98KM
DESCRIPTION:Download rit
URL:https://www.tielensewielertoeristen.be/events/c-rondom-veerle-98km
END:VEVENT
BEGIN:VEVENT
DTSTART;TZID=Europe/Brussels:20240317T083000
DTEND;TZID=Europe/Brussels:20240317T083000
DTSTAMP:20260424T102216
CREATED:20240115T192536Z
LAST-MODIFIED:20240329T100202Z
UID:2928-1710664200-1710664200@www.tielensewielertoeristen.be
SUMMARY:C Rijkevorsel-Zondereigen 72KM
DESCRIPTION:Download rit
URL:https://www.tielensewielertoeristen.be/events/c-rijkevorsel-zonderingen-72km
END:VEVENT
BEGIN:VEVENT
DTSTART;TZID=Europe/Brussels:20240317T083000
DTEND;TZID=Europe/Brussels:20240317T083000
DTSTAMP:20260424T102216
CREATED:20240115T192534Z
LAST-MODIFIED:20240329T100136Z
UID:2927-1710664200-1710664200@www.tielensewielertoeristen.be
SUMMARY:B+ / B Booischot 80KM
DESCRIPTION:Download rit
URL:https://www.tielensewielertoeristen.be/events/b-b-booischot-80km
END:VEVENT
BEGIN:VEVENT
DTSTART;TZID=Europe/Brussels:20240310T083000
DTEND;TZID=Europe/Brussels:20240310T083000
DTSTAMP:20260424T102216
CREATED:20240115T192534Z
LAST-MODIFIED:20240329T100053Z
UID:2925-1710059400-1710059400@www.tielensewielertoeristen.be
SUMMARY:B+ / B Zoersel 75km
DESCRIPTION:Download rit
URL:https://www.tielensewielertoeristen.be/events/b-b-zoersel-75km
END:VEVENT
END:VCALENDAR