BEGIN:VCALENDAR
VERSION:2.0
PRODID:-//tielensewielertoeristen - ECPv6.15.20//NONSGML v1.0//EN
CALSCALE:GREGORIAN
METHOD:PUBLISH
X-ORIGINAL-URL:https://www.tielensewielertoeristen.be
X-WR-CALDESC:Events voor tielensewielertoeristen
REFRESH-INTERVAL;VALUE=DURATION:PT1H
X-Robots-Tag:noindex
X-PUBLISHED-TTL:PT1H
BEGIN:VTIMEZONE
TZID:Europe/Brussels
BEGIN:DAYLIGHT
TZOFFSETFROM:+0100
TZOFFSETTO:+0200
TZNAME:CEST
DTSTART:20250330T010000
END:DAYLIGHT
BEGIN:STANDARD
TZOFFSETFROM:+0200
TZOFFSETTO:+0100
TZNAME:CET
DTSTART:20251026T010000
END:STANDARD
BEGIN:DAYLIGHT
TZOFFSETFROM:+0100
TZOFFSETTO:+0200
TZNAME:CEST
DTSTART:20260329T010000
END:DAYLIGHT
BEGIN:STANDARD
TZOFFSETFROM:+0200
TZOFFSETTO:+0100
TZNAME:CET
DTSTART:20261025T010000
END:STANDARD
BEGIN:DAYLIGHT
TZOFFSETFROM:+0100
TZOFFSETTO:+0200
TZNAME:CEST
DTSTART:20270328T010000
END:DAYLIGHT
BEGIN:STANDARD
TZOFFSETFROM:+0200
TZOFFSETTO:+0100
TZNAME:CET
DTSTART:20271031T010000
END:STANDARD
END:VTIMEZONE
BEGIN:VEVENT
DTSTART;TZID=Europe/Brussels:20260514T080000
DTEND;TZID=Europe/Brussels:20260514T080000
DTSTAMP:20260423T024041
CREATED:20260319T102521Z
LAST-MODIFIED:20260319T102521Z
UID:6705-1778745600-1778745600@www.tielensewielertoeristen.be
SUMMARY:A Rit in onderlinge afspraak
DESCRIPTION:
URL:https://www.tielensewielertoeristen.be/events/a-rit-in-onderlinge-afspraak-16
END:VEVENT
BEGIN:VEVENT
DTSTART;TZID=Europe/Brussels:20260514T080000
DTEND;TZID=Europe/Brussels:20260514T080000
DTSTAMP:20260423T024042
CREATED:20260319T102720Z
LAST-MODIFIED:20260319T102720Z
UID:6706-1778745600-1778745600@www.tielensewielertoeristen.be
SUMMARY:B+/B Vessem 101km
DESCRIPTION:Download rit
URL:https://www.tielensewielertoeristen.be/events/b-b-vessem-101km-2
END:VEVENT
BEGIN:VEVENT
DTSTART;TZID=Europe/Brussels:20260514T080000
DTEND;TZID=Europe/Brussels:20260514T080000
DTSTAMP:20260423T024042
CREATED:20260319T102720Z
LAST-MODIFIED:20260319T102720Z
UID:6707-1778745600-1778745600@www.tielensewielertoeristen.be
SUMMARY:C Scherpenheuvel 80km
DESCRIPTION:Download rit
URL:https://www.tielensewielertoeristen.be/events/c-scherpenheuvel-80km-3
END:VEVENT
BEGIN:VEVENT
DTSTART;TZID=Europe/Brussels:20260517T080000
DTEND;TZID=Europe/Brussels:20260517T080000
DTSTAMP:20260423T024042
CREATED:20260319T102721Z
LAST-MODIFIED:20260319T102721Z
UID:6709-1779004800-1779004800@www.tielensewielertoeristen.be
SUMMARY:B+/B Deurne - Diest 98km
DESCRIPTION:Download rit
URL:https://www.tielensewielertoeristen.be/events/b-b-deurne-diest-98km
END:VEVENT
BEGIN:VEVENT
DTSTART;TZID=Europe/Brussels:20260517T080000
DTEND;TZID=Europe/Brussels:20260517T080000
DTSTAMP:20260423T024042
CREATED:20260319T102721Z
LAST-MODIFIED:20260319T102721Z
UID:6710-1779004800-1779004800@www.tielensewielertoeristen.be
SUMMARY:C Weelde 82km
DESCRIPTION:Download rit
URL:https://www.tielensewielertoeristen.be/events/c-weelde-82km
END:VEVENT
BEGIN:VEVENT
DTSTART;TZID=Europe/Brussels:20260517T080000
DTEND;TZID=Europe/Brussels:20260517T080000
DTSTAMP:20260423T024042
CREATED:20260319T102721Z
LAST-MODIFIED:20260319T102721Z
UID:6708-1779004800-1779004800@www.tielensewielertoeristen.be
SUMMARY:A Rit in onderlinge afspraak
DESCRIPTION:
URL:https://www.tielensewielertoeristen.be/events/a-rit-in-onderlinge-afspraak-17
END:VEVENT
BEGIN:VEVENT
DTSTART;TZID=Europe/Brussels:20260524T080000
DTEND;TZID=Europe/Brussels:20260524T080000
DTSTAMP:20260423T024042
CREATED:20260319T102920Z
LAST-MODIFIED:20260319T102920Z
UID:6711-1779609600-1779609600@www.tielensewielertoeristen.be
SUMMARY:A Rit in onderlinge afspraak
DESCRIPTION:
URL:https://www.tielensewielertoeristen.be/events/a-rit-in-onderlinge-afspraak-18
END:VEVENT
BEGIN:VEVENT
DTSTART;TZID=Europe/Brussels:20260524T080000
DTEND;TZID=Europe/Brussels:20260524T080000
DTSTAMP:20260423T024042
CREATED:20260319T102921Z
LAST-MODIFIED:20260319T102921Z
UID:6712-1779609600-1779609600@www.tielensewielertoeristen.be
SUMMARY:B+/B Houwaart 104km
DESCRIPTION:Download rit
URL:https://www.tielensewielertoeristen.be/events/b-b-houwaart-104km-2
END:VEVENT
BEGIN:VEVENT
DTSTART;TZID=Europe/Brussels:20260524T080000
DTEND;TZID=Europe/Brussels:20260524T080000
DTSTAMP:20260423T024042
CREATED:20260319T102921Z
LAST-MODIFIED:20260319T102921Z
UID:6713-1779609600-1779609600@www.tielensewielertoeristen.be
SUMMARY:C Keiheuvel 87km
DESCRIPTION:Download rit
URL:https://www.tielensewielertoeristen.be/events/c-keiheuvel-87km-3
END:VEVENT
BEGIN:VEVENT
DTSTART;TZID=Europe/Brussels:20260525T080000
DTEND;TZID=Europe/Brussels:20260525T080000
DTSTAMP:20260423T024042
CREATED:20260319T102921Z
LAST-MODIFIED:20260319T102921Z
UID:6714-1779696000-1779696000@www.tielensewielertoeristen.be
SUMMARY:A Rit in onderlinge afspraak
DESCRIPTION:
URL:https://www.tielensewielertoeristen.be/events/a-rit-in-onderlinge-afspraak-19
END:VEVENT
BEGIN:VEVENT
DTSTART;TZID=Europe/Brussels:20260525T080000
DTEND;TZID=Europe/Brussels:20260525T080000
DTSTAMP:20260423T024042
CREATED:20260319T102921Z
LAST-MODIFIED:20260319T102921Z
UID:6715-1779696000-1779696000@www.tielensewielertoeristen.be
SUMMARY:B+/B Poppel 95 km
DESCRIPTION:Download rit
URL:https://www.tielensewielertoeristen.be/events/b-b-poppel-95-km
END:VEVENT
BEGIN:VEVENT
DTSTART;TZID=Europe/Brussels:20260525T080000
DTEND;TZID=Europe/Brussels:20260525T080000
DTSTAMP:20260423T024042
CREATED:20260319T103121Z
LAST-MODIFIED:20260319T103121Z
UID:6716-1779696000-1779696000@www.tielensewielertoeristen.be
SUMMARY:C Wiksroute 80km
DESCRIPTION:Download rit
URL:https://www.tielensewielertoeristen.be/events/c-wiksroute-80km-2
END:VEVENT
BEGIN:VEVENT
DTSTART;TZID=Europe/Brussels:20260530T080000
DTEND;TZID=Europe/Brussels:20260530T080000
DTSTAMP:20260423T024042
CREATED:20260319T103121Z
LAST-MODIFIED:20260319T103121Z
UID:6719-1780128000-1780128000@www.tielensewielertoeristen.be
SUMMARY:C Hamont Achel 118km
DESCRIPTION:Download rit
URL:https://www.tielensewielertoeristen.be/events/c-hamont-achel-118km-2
CATEGORIES:Zaterdagrit
END:VEVENT
BEGIN:VEVENT
DTSTART;TZID=Europe/Brussels:20260530T080000
DTEND;TZID=Europe/Brussels:20260530T080000
DTSTAMP:20260423T024042
CREATED:20260319T103121Z
LAST-MODIFIED:20260319T103121Z
UID:6717-1780128000-1780128000@www.tielensewielertoeristen.be
SUMMARY:A Rit in onderlinge afspraak
DESCRIPTION:
URL:https://www.tielensewielertoeristen.be/events/a-rit-in-onderlinge-afspraak-20
CATEGORIES:Zaterdagrit
END:VEVENT
BEGIN:VEVENT
DTSTART;TZID=Europe/Brussels:20260530T080000
DTEND;TZID=Europe/Brussels:20260530T080000
DTSTAMP:20260423T024042
CREATED:20260319T103121Z
LAST-MODIFIED:20260319T103121Z
UID:6718-1780128000-1780128000@www.tielensewielertoeristen.be
SUMMARY:B+/B Sint-Truiden 171km
DESCRIPTION:Download rit
URL:https://www.tielensewielertoeristen.be/events/b-b-sint-truiden-171km
CATEGORIES:Zaterdagrit
END:VEVENT
BEGIN:VEVENT
DTSTART;TZID=Europe/Brussels:20260531T080000
DTEND;TZID=Europe/Brussels:20260531T080000
DTSTAMP:20260423T024042
CREATED:20260319T103121Z
LAST-MODIFIED:20260319T103121Z
UID:6720-1780214400-1780214400@www.tielensewielertoeristen.be
SUMMARY:A Rit in onderlinge afspraak
DESCRIPTION:
URL:https://www.tielensewielertoeristen.be/events/a-rit-in-onderlinge-afspraak-21
END:VEVENT
BEGIN:VEVENT
DTSTART;TZID=Europe/Brussels:20260531T080000
DTEND;TZID=Europe/Brussels:20260531T080000
DTSTAMP:20260423T024042
CREATED:20260319T103321Z
LAST-MODIFIED:20260319T103321Z
UID:6721-1780214400-1780214400@www.tielensewielertoeristen.be
SUMMARY:B+/B Kerkhoven 90km
DESCRIPTION:Download rit
URL:https://www.tielensewielertoeristen.be/events/b-b-kerkhoven-90km-3
END:VEVENT
BEGIN:VEVENT
DTSTART;TZID=Europe/Brussels:20260531T080000
DTEND;TZID=Europe/Brussels:20260531T080000
DTSTAMP:20260423T024042
CREATED:20260319T103321Z
LAST-MODIFIED:20260319T103321Z
UID:6722-1780214400-1780214400@www.tielensewielertoeristen.be
SUMMARY:C Hooge Mierde 77km
DESCRIPTION:Download rit
URL:https://www.tielensewielertoeristen.be/events/c-hooge-mierde-77km
END:VEVENT
END:VCALENDAR