BEGIN:VCALENDAR
VERSION:2.0
PRODID:-//tielensewielertoeristen - ECPv6.15.20//NONSGML v1.0//EN
CALSCALE:GREGORIAN
METHOD:PUBLISH
X-WR-CALNAME:tielensewielertoeristen
X-ORIGINAL-URL:https://www.tielensewielertoeristen.be
X-WR-CALDESC:Events voor tielensewielertoeristen
REFRESH-INTERVAL;VALUE=DURATION:PT1H
X-Robots-Tag:noindex
X-PUBLISHED-TTL:PT1H
BEGIN:VTIMEZONE
TZID:Europe/Brussels
BEGIN:DAYLIGHT
TZOFFSETFROM:+0100
TZOFFSETTO:+0200
TZNAME:CEST
DTSTART:20240331T010000
END:DAYLIGHT
BEGIN:STANDARD
TZOFFSETFROM:+0200
TZOFFSETTO:+0100
TZNAME:CET
DTSTART:20241027T010000
END:STANDARD
BEGIN:DAYLIGHT
TZOFFSETFROM:+0100
TZOFFSETTO:+0200
TZNAME:CEST
DTSTART:20250330T010000
END:DAYLIGHT
BEGIN:STANDARD
TZOFFSETFROM:+0200
TZOFFSETTO:+0100
TZNAME:CET
DTSTART:20251026T010000
END:STANDARD
BEGIN:DAYLIGHT
TZOFFSETFROM:+0100
TZOFFSETTO:+0200
TZNAME:CEST
DTSTART:20260329T010000
END:DAYLIGHT
BEGIN:STANDARD
TZOFFSETFROM:+0200
TZOFFSETTO:+0100
TZNAME:CET
DTSTART:20261025T010000
END:STANDARD
END:VTIMEZONE
BEGIN:VEVENT
DTSTART;TZID=Europe/Brussels:20250928T080000
DTEND;TZID=Europe/Brussels:20250928T080000
DTSTAMP:20260423T113130
CREATED:20250831T210137Z
LAST-MODIFIED:20250831T212547Z
UID:6060-1759046400-1759046400@www.tielensewielertoeristen.be
SUMMARY:C Rijkevorsel  Ravels 76 km
DESCRIPTION:Download rit
URL:https://www.tielensewielertoeristen.be/events/c-rijkevorsel-ravels-76-km
END:VEVENT
BEGIN:VEVENT
DTSTART;TZID=Europe/Brussels:20250921T000000
DTEND;TZID=Europe/Brussels:20250921T000000
DTSTAMP:20260423T113130
CREATED:20250831T210339Z
LAST-MODIFIED:20250831T211805Z
UID:6066-1758412800-1758412800@www.tielensewielertoeristen.be
SUMMARY:MTB + Gravel tocht
DESCRIPTION:
URL:https://www.tielensewielertoeristen.be/events/mtb-gravel-tocht
END:VEVENT
BEGIN:VEVENT
DTSTART;TZID=Europe/Brussels:20250920T000000
DTEND;TZID=Europe/Brussels:20250920T000000
DTSTAMP:20260423T113130
CREATED:20250831T210339Z
LAST-MODIFIED:20250831T211805Z
UID:6065-1758326400-1758326400@www.tielensewielertoeristen.be
SUMMARY:Afpijlen MTB\, klaarzetten Domus
DESCRIPTION:
URL:https://www.tielensewielertoeristen.be/events/afpijlen-mtb-klaarzetten-domus
END:VEVENT
BEGIN:VEVENT
DTSTART;TZID=Europe/Brussels:20250914T080000
DTEND;TZID=Europe/Brussels:20250914T080000
DTSTAMP:20260423T113130
CREATED:20250831T210132Z
LAST-MODIFIED:20250831T212605Z
UID:6057-1757836800-1757836800@www.tielensewielertoeristen.be
SUMMARY:B+/B Alphen Chaam 95 km
DESCRIPTION:Download rit
URL:https://www.tielensewielertoeristen.be/events/b-b-alphen-chaam-95-km
END:VEVENT
BEGIN:VEVENT
DTSTART;TZID=Europe/Brussels:20250914T080000
DTEND;TZID=Europe/Brussels:20250914T080000
DTSTAMP:20260423T113130
CREATED:20250831T210132Z
LAST-MODIFIED:20250831T212616Z
UID:6058-1757836800-1757836800@www.tielensewielertoeristen.be
SUMMARY:C Lommel Sahara 80 km
DESCRIPTION:Download rit
URL:https://www.tielensewielertoeristen.be/events/c-lommel-sahara-80-km-2
END:VEVENT
BEGIN:VEVENT
DTSTART;TZID=Europe/Brussels:20250913T000000
DTEND;TZID=Europe/Brussels:20250913T000000
DTSTAMP:20260423T113130
CREATED:20250831T210339Z
LAST-MODIFIED:20250831T211805Z
UID:6064-1757721600-1757721600@www.tielensewielertoeristen.be
SUMMARY:Verkenning MTB
DESCRIPTION:
URL:https://www.tielensewielertoeristen.be/events/verkenning-mtb
END:VEVENT
BEGIN:VEVENT
DTSTART;TZID=Europe/Brussels:20250907T080000
DTEND;TZID=Europe/Brussels:20250907T080000
DTSTAMP:20260423T113130
CREATED:20250831T211600Z
LAST-MODIFIED:20250831T212626Z
UID:6085-1757232000-1757232000@www.tielensewielertoeristen.be
SUMMARY:B+/B Gijmel 95 km
DESCRIPTION:Download rit
URL:https://www.tielensewielertoeristen.be/events/b-b-gijmel-95-km
END:VEVENT
BEGIN:VEVENT
DTSTART;TZID=Europe/Brussels:20250907T080000
DTEND;TZID=Europe/Brussels:20250907T080000
DTSTAMP:20260423T113130
CREATED:20250831T210132Z
LAST-MODIFIED:20250831T212646Z
UID:6056-1757232000-1757232000@www.tielensewielertoeristen.be
SUMMARY:C Poppel 78 km
DESCRIPTION:Download rit
URL:https://www.tielensewielertoeristen.be/events/c-poppel-78-km
END:VEVENT
BEGIN:VEVENT
DTSTART;TZID=Europe/Brussels:20250907T080000
DTEND;TZID=Europe/Brussels:20250907T080000
DTSTAMP:20260423T113130
CREATED:20250831T210131Z
LAST-MODIFIED:20250831T211600Z
UID:6055-1757232000-1757232000@www.tielensewielertoeristen.be
SUMMARY:Keiheuvel feminin 80 km
DESCRIPTION:Download rit
URL:https://www.tielensewielertoeristen.be/events/keiheuvel-feminin-80-km
END:VEVENT
BEGIN:VEVENT
DTSTART;TZID=Europe/Brussels:20250902T200000
DTEND;TZID=Europe/Brussels:20250902T200000
DTSTAMP:20260423T113130
CREATED:20250831T210338Z
LAST-MODIFIED:20250831T211805Z
UID:6063-1756843200-1756843200@www.tielensewielertoeristen.be
SUMMARY:leden vergadering MTB - DOMUS
DESCRIPTION:
URL:https://www.tielensewielertoeristen.be/events/leden-vergadering-mtb-domus
END:VEVENT
BEGIN:VEVENT
DTSTART;TZID=Europe/Brussels:20250831T080000
DTEND;TZID=Europe/Brussels:20250831T080000
DTSTAMP:20260423T113130
CREATED:20250723T193557Z
LAST-MODIFIED:20250723T193557Z
UID:6027-1756627200-1756627200@www.tielensewielertoeristen.be
SUMMARY:B+/B Deurne - Diest 95 km
DESCRIPTION:Download rit
URL:https://www.tielensewielertoeristen.be/events/b-b-deurne-diest-95-km
END:VEVENT
BEGIN:VEVENT
DTSTART;TZID=Europe/Brussels:20250831T080000
DTEND;TZID=Europe/Brussels:20250831T080000
DTSTAMP:20260423T113130
CREATED:20250723T193557Z
LAST-MODIFIED:20250723T193557Z
UID:6028-1756627200-1756627200@www.tielensewielertoeristen.be
SUMMARY:C Wortel c 79 km
DESCRIPTION:Download rit
URL:https://www.tielensewielertoeristen.be/events/c-wortel-c-79-km
END:VEVENT
BEGIN:VEVENT
DTSTART;TZID=Europe/Brussels:20250824T080000
DTEND;TZID=Europe/Brussels:20250824T080000
DTSTAMP:20260423T113130
CREATED:20250723T193557Z
LAST-MODIFIED:20250723T193557Z
UID:6025-1756022400-1756022400@www.tielensewielertoeristen.be
SUMMARY:B+/B Duffel 92 km
DESCRIPTION:Download rit
URL:https://www.tielensewielertoeristen.be/events/b-b-duffel-92-km
END:VEVENT
BEGIN:VEVENT
DTSTART;TZID=Europe/Brussels:20250824T080000
DTEND;TZID=Europe/Brussels:20250824T080000
DTSTAMP:20260423T113130
CREATED:20250723T193557Z
LAST-MODIFIED:20250723T193557Z
UID:6026-1756022400-1756022400@www.tielensewielertoeristen.be
SUMMARY:C Deurne - Diest c 79 km
DESCRIPTION:Download rit
URL:https://www.tielensewielertoeristen.be/events/c-deurne-diest-c-79-km
END:VEVENT
BEGIN:VEVENT
DTSTART;TZID=Europe/Brussels:20250817T080000
DTEND;TZID=Europe/Brussels:20250817T080000
DTSTAMP:20260423T113130
CREATED:20250723T193357Z
LAST-MODIFIED:20250723T193357Z
UID:6023-1755417600-1755417600@www.tielensewielertoeristen.be
SUMMARY:B+/B Luycksgestel 100 km
DESCRIPTION:Download rit
URL:https://www.tielensewielertoeristen.be/events/b-b-luycksgestel-100-km
END:VEVENT
BEGIN:VEVENT
DTSTART;TZID=Europe/Brussels:20250817T080000
DTEND;TZID=Europe/Brussels:20250817T080000
DTSTAMP:20260423T113130
CREATED:20250723T193357Z
LAST-MODIFIED:20250723T193357Z
UID:6024-1755417600-1755417600@www.tielensewielertoeristen.be
SUMMARY:C Zondereigen - Ulicoten c 86 km
DESCRIPTION:Download rit
URL:https://www.tielensewielertoeristen.be/events/c-zondereigen-ulicoten-c-86-km
END:VEVENT
BEGIN:VEVENT
DTSTART;TZID=Europe/Brussels:20250815T080000
DTEND;TZID=Europe/Brussels:20250815T080000
DTSTAMP:20260423T113130
CREATED:20250723T193356Z
LAST-MODIFIED:20250723T193356Z
UID:6021-1755244800-1755244800@www.tielensewielertoeristen.be
SUMMARY:B+/B Rondom -  Veerle 98 km
DESCRIPTION:Download rit
URL:https://www.tielensewielertoeristen.be/events/b-b-rondom-veerle-98-km
END:VEVENT
BEGIN:VEVENT
DTSTART;TZID=Europe/Brussels:20250815T080000
DTEND;TZID=Europe/Brussels:20250815T080000
DTSTAMP:20260423T113130
CREATED:20250723T193356Z
LAST-MODIFIED:20250723T193356Z
UID:6022-1755244800-1755244800@www.tielensewielertoeristen.be
SUMMARY:C Olmen 82 km
DESCRIPTION:Download rit
URL:https://www.tielensewielertoeristen.be/events/c-olmen-82-km
END:VEVENT
BEGIN:VEVENT
DTSTART;TZID=Europe/Brussels:20250810T080000
DTEND;TZID=Europe/Brussels:20250810T080000
DTSTAMP:20260423T113130
CREATED:20250723T193356Z
LAST-MODIFIED:20250723T193356Z
UID:6020-1754812800-1754812800@www.tielensewielertoeristen.be
SUMMARY:C Rijkevorsel - Ravels c 76 km
DESCRIPTION:Download rit
URL:https://www.tielensewielertoeristen.be/events/c-rijkevorsel-ravels-c-76-km
END:VEVENT
BEGIN:VEVENT
DTSTART;TZID=Europe/Brussels:20250810T080000
DTEND;TZID=Europe/Brussels:20250810T080000
DTSTAMP:20260423T113130
CREATED:20250723T193348Z
LAST-MODIFIED:20250801T071925Z
UID:6019-1754812800-1754812800@www.tielensewielertoeristen.be
SUMMARY:B+/B Ranst 88 km
DESCRIPTION:Download rit
URL:https://www.tielensewielertoeristen.be/events/b-b-ranst-88-km
END:VEVENT
BEGIN:VEVENT
DTSTART;TZID=Europe/Brussels:20250810T063000
DTEND;TZID=Europe/Brussels:20250810T063000
DTSTAMP:20260423T113130
CREATED:20250723T193347Z
LAST-MODIFIED:20250809T063108Z
UID:6017-1754807400-1754807400@www.tielensewielertoeristen.be
SUMMARY:B+/B Blankenberge 170 km
DESCRIPTION:Binnenkort gaan wij naar zee!! \nLet op deze rit is een beetje gewijzigd. Zorg er dus zeker voor dat jij deze rit download 😉 \nHier is je rit – Veel plezier
URL:https://www.tielensewielertoeristen.be/events/b-b-blankenberge-170-km
CATEGORIES:Zeerit
END:VEVENT
BEGIN:VEVENT
DTSTART;TZID=Europe/Brussels:20250810T063000
DTEND;TZID=Europe/Brussels:20250810T063000
DTSTAMP:20260423T113130
CREATED:20250723T193347Z
LAST-MODIFIED:20250809T063118Z
UID:6018-1754807400-1754807400@www.tielensewielertoeristen.be
SUMMARY:C Blankenberge 170 km
DESCRIPTION:Binnenkort gaan wij naar zee!! \nLet op deze rit is een beetje gewijzigd. Zorg er dus zeker voor dat jij deze rit download 😉 \nHier is je rit – Veel plezier
URL:https://www.tielensewielertoeristen.be/events/c-blankenberge-170-km
CATEGORIES:Zeerit
END:VEVENT
BEGIN:VEVENT
DTSTART;TZID=Europe/Brussels:20250803T080000
DTEND;TZID=Europe/Brussels:20250803T080000
DTSTAMP:20260423T113130
CREATED:20250723T193347Z
LAST-MODIFIED:20250723T193347Z
UID:6015-1754208000-1754208000@www.tielensewielertoeristen.be
SUMMARY:B+/B Tremelo 101 km
DESCRIPTION:Download rit
URL:https://www.tielensewielertoeristen.be/events/b-b-tremelo-101-km
END:VEVENT
BEGIN:VEVENT
DTSTART;TZID=Europe/Brussels:20250803T080000
DTEND;TZID=Europe/Brussels:20250803T080000
DTSTAMP:20260423T113130
CREATED:20250723T193347Z
LAST-MODIFIED:20250723T193347Z
UID:6016-1754208000-1754208000@www.tielensewielertoeristen.be
SUMMARY:C Poppel b 95 km
DESCRIPTION:Download rit
URL:https://www.tielensewielertoeristen.be/events/c-poppel-b-95-km
END:VEVENT
BEGIN:VEVENT
DTSTART;TZID=Europe/Brussels:20250727T080000
DTEND;TZID=Europe/Brussels:20250727T080000
DTSTAMP:20260423T113130
CREATED:20250624T181836Z
LAST-MODIFIED:20250624T181836Z
UID:5989-1753603200-1753603200@www.tielensewielertoeristen.be
SUMMARY:C Meerseldreef 89 km
DESCRIPTION:Download rit
URL:https://www.tielensewielertoeristen.be/events/c-meerseldreef-89-km
END:VEVENT
BEGIN:VEVENT
DTSTART;TZID=Europe/Brussels:20250727T080000
DTEND;TZID=Europe/Brussels:20250727T080000
DTSTAMP:20260423T113130
CREATED:20250624T181836Z
LAST-MODIFIED:20250624T181836Z
UID:5988-1753603200-1753603200@www.tielensewielertoeristen.be
SUMMARY:B+/B Heusden - Zolder 96 km
DESCRIPTION:Download rit
URL:https://www.tielensewielertoeristen.be/events/b-b-heusden-zolder-96-km
END:VEVENT
BEGIN:VEVENT
DTSTART;TZID=Europe/Brussels:20250721T080000
DTEND;TZID=Europe/Brussels:20250721T080000
DTSTAMP:20260423T113130
CREATED:20250624T181835Z
LAST-MODIFIED:20250624T181835Z
UID:5987-1753084800-1753084800@www.tielensewielertoeristen.be
SUMMARY:C Duffel 92 km
DESCRIPTION:Download rit
URL:https://www.tielensewielertoeristen.be/events/c-duffel-92-km
END:VEVENT
BEGIN:VEVENT
DTSTART;TZID=Europe/Brussels:20250721T080000
DTEND;TZID=Europe/Brussels:20250721T080000
DTSTAMP:20260423T113130
CREATED:20250624T181834Z
LAST-MODIFIED:20250624T181834Z
UID:5986-1753084800-1753084800@www.tielensewielertoeristen.be
SUMMARY:B+/B Chaam 94 km
DESCRIPTION:Download rit
URL:https://www.tielensewielertoeristen.be/events/b-b-chaam-94-km
END:VEVENT
BEGIN:VEVENT
DTSTART;TZID=Europe/Brussels:20250720T080000
DTEND;TZID=Europe/Brussels:20250720T080000
DTSTAMP:20260423T113130
CREATED:20250624T181834Z
LAST-MODIFIED:20250624T181834Z
UID:5985-1752998400-1752998400@www.tielensewielertoeristen.be
SUMMARY:C Zoersel 75 km
DESCRIPTION:Download rit
URL:https://www.tielensewielertoeristen.be/events/c-zoersel-75-km
END:VEVENT
BEGIN:VEVENT
DTSTART;TZID=Europe/Brussels:20250720T080000
DTEND;TZID=Europe/Brussels:20250720T080000
DTSTAMP:20260423T113130
CREATED:20250624T181827Z
LAST-MODIFIED:20250624T181827Z
UID:5984-1752998400-1752998400@www.tielensewielertoeristen.be
SUMMARY:B+/B Vessem 101 km
DESCRIPTION:Download rit
URL:https://www.tielensewielertoeristen.be/events/b-b-vessem-101-km
END:VEVENT
END:VCALENDAR