BEGIN:VCALENDAR
VERSION:2.0
PRODID:-//tielensewielertoeristen - ECPv6.15.20//NONSGML v1.0//EN
CALSCALE:GREGORIAN
METHOD:PUBLISH
X-WR-CALNAME:tielensewielertoeristen
X-ORIGINAL-URL:https://www.tielensewielertoeristen.be
X-WR-CALDESC:Events voor tielensewielertoeristen
REFRESH-INTERVAL;VALUE=DURATION:PT1H
X-Robots-Tag:noindex
X-PUBLISHED-TTL:PT1H
BEGIN:VTIMEZONE
TZID:Europe/Brussels
BEGIN:DAYLIGHT
TZOFFSETFROM:+0100
TZOFFSETTO:+0200
TZNAME:CEST
DTSTART:20250330T010000
END:DAYLIGHT
BEGIN:STANDARD
TZOFFSETFROM:+0200
TZOFFSETTO:+0100
TZNAME:CET
DTSTART:20251026T010000
END:STANDARD
BEGIN:DAYLIGHT
TZOFFSETFROM:+0100
TZOFFSETTO:+0200
TZNAME:CEST
DTSTART:20260329T010000
END:DAYLIGHT
BEGIN:STANDARD
TZOFFSETFROM:+0200
TZOFFSETTO:+0100
TZNAME:CET
DTSTART:20261025T010000
END:STANDARD
BEGIN:DAYLIGHT
TZOFFSETFROM:+0100
TZOFFSETTO:+0200
TZNAME:CEST
DTSTART:20270328T010000
END:DAYLIGHT
BEGIN:STANDARD
TZOFFSETFROM:+0200
TZOFFSETTO:+0100
TZNAME:CET
DTSTART:20271031T010000
END:STANDARD
END:VTIMEZONE
BEGIN:VEVENT
DTSTART;TZID=Europe/Brussels:20260501T080000
DTEND;TZID=Europe/Brussels:20260501T080000
DTSTAMP:20260423T042134
CREATED:20260319T102507Z
LAST-MODIFIED:20260319T102507Z
UID:6696-1777622400-1777622400@www.tielensewielertoeristen.be
SUMMARY:A Rit in onderlinge afspraak
DESCRIPTION:
URL:https://www.tielensewielertoeristen.be/events/a-rit-in-onderlinge-afspraak-13
END:VEVENT
BEGIN:VEVENT
DTSTART;TZID=Europe/Brussels:20260501T080000
DTEND;TZID=Europe/Brussels:20260501T080000
DTSTAMP:20260423T042134
CREATED:20260319T102517Z
LAST-MODIFIED:20260319T102517Z
UID:6698-1777622400-1777622400@www.tielensewielertoeristen.be
SUMMARY:C Geel - Bel 77km
DESCRIPTION:Download rit
URL:https://www.tielensewielertoeristen.be/events/c-geel-bel-77km-3
END:VEVENT
BEGIN:VEVENT
DTSTART;TZID=Europe/Brussels:20260501T080000
DTEND;TZID=Europe/Brussels:20260501T080000
DTSTAMP:20260423T042134
CREATED:20260319T102517Z
LAST-MODIFIED:20260319T102517Z
UID:6697-1777622400-1777622400@www.tielensewielertoeristen.be
SUMMARY:B+/B Aarschot 99 km
DESCRIPTION:Download rit
URL:https://www.tielensewielertoeristen.be/events/b-b-aarschot-99-km
END:VEVENT
END:VCALENDAR