BEGIN:VCALENDAR
VERSION:2.0
PRODID:-//tielensewielertoeristen - ECPv6.15.20//NONSGML v1.0//EN
CALSCALE:GREGORIAN
METHOD:PUBLISH
X-ORIGINAL-URL:https://www.tielensewielertoeristen.be
X-WR-CALDESC:Events voor tielensewielertoeristen
REFRESH-INTERVAL;VALUE=DURATION:PT1H
X-Robots-Tag:noindex
X-PUBLISHED-TTL:PT1H
BEGIN:VTIMEZONE
TZID:Europe/Brussels
BEGIN:DAYLIGHT
TZOFFSETFROM:+0100
TZOFFSETTO:+0200
TZNAME:CEST
DTSTART:20240331T010000
END:DAYLIGHT
BEGIN:STANDARD
TZOFFSETFROM:+0200
TZOFFSETTO:+0100
TZNAME:CET
DTSTART:20241027T010000
END:STANDARD
BEGIN:DAYLIGHT
TZOFFSETFROM:+0100
TZOFFSETTO:+0200
TZNAME:CEST
DTSTART:20250330T010000
END:DAYLIGHT
BEGIN:STANDARD
TZOFFSETFROM:+0200
TZOFFSETTO:+0100
TZNAME:CET
DTSTART:20251026T010000
END:STANDARD
BEGIN:DAYLIGHT
TZOFFSETFROM:+0100
TZOFFSETTO:+0200
TZNAME:CEST
DTSTART:20260329T010000
END:DAYLIGHT
BEGIN:STANDARD
TZOFFSETFROM:+0200
TZOFFSETTO:+0100
TZNAME:CET
DTSTART:20261025T010000
END:STANDARD
BEGIN:DAYLIGHT
TZOFFSETFROM:+0100
TZOFFSETTO:+0200
TZNAME:CEST
DTSTART:20270328T010000
END:DAYLIGHT
BEGIN:STANDARD
TZOFFSETFROM:+0200
TZOFFSETTO:+0100
TZNAME:CET
DTSTART:20271031T010000
END:STANDARD
END:VTIMEZONE
BEGIN:VEVENT
DTSTART;TZID=Europe/Brussels:20260406T080000
DTEND;TZID=Europe/Brussels:20260406T080000
DTSTAMP:20260423T074818
CREATED:20260223T082657Z
LAST-MODIFIED:20260223T082657Z
UID:6374-1775462400-1775462400@www.tielensewielertoeristen.be
SUMMARY:A Rit in onderlinge afspraak
DESCRIPTION:
URL:https://www.tielensewielertoeristen.be/events/a-rit-in-onderlinge-afspraak-8
END:VEVENT
BEGIN:VEVENT
DTSTART;TZID=Europe/Brussels:20260406T080000
DTEND;TZID=Europe/Brussels:20260406T080000
DTSTAMP:20260423T074818
CREATED:20260223T082454Z
LAST-MODIFIED:20260306T094252Z
UID:6364-1775462400-1775462400@www.tielensewielertoeristen.be
SUMMARY:C Wortel 79 km
DESCRIPTION:Download rit
URL:https://www.tielensewielertoeristen.be/events/c-wortel-79-km-2
END:VEVENT
BEGIN:VEVENT
DTSTART;TZID=Europe/Brussels:20260406T080000
DTEND;TZID=Europe/Brussels:20260406T080000
DTSTAMP:20260423T074818
CREATED:20260223T082454Z
LAST-MODIFIED:20260306T094243Z
UID:6363-1775462400-1775462400@www.tielensewielertoeristen.be
SUMMARY:B+/ B Schaffen - Meldert Zelem 100 km
DESCRIPTION:Download rit
URL:https://www.tielensewielertoeristen.be/events/b-b-schaffen-meldert-zelem-100-km-2
END:VEVENT
BEGIN:VEVENT
DTSTART;TZID=Europe/Brussels:20250421T080000
DTEND;TZID=Europe/Brussels:20250421T080000
DTSTAMP:20260423T074818
CREATED:20250327T170359Z
LAST-MODIFIED:20250327T170359Z
UID:5857-1745222400-1745222400@www.tielensewielertoeristen.be
SUMMARY:B+/B Scherpenheuvel 98 km
DESCRIPTION:Download rit
URL:https://www.tielensewielertoeristen.be/events/b-b-scherpenheuvel-98-km
END:VEVENT
BEGIN:VEVENT
DTSTART;TZID=Europe/Brussels:20250421T080000
DTEND;TZID=Europe/Brussels:20250421T080000
DTSTAMP:20260423T074818
CREATED:20250327T170359Z
LAST-MODIFIED:20250327T170359Z
UID:5858-1745222400-1745222400@www.tielensewielertoeristen.be
SUMMARY:C Weelde 82 km
DESCRIPTION:Download rit
URL:https://www.tielensewielertoeristen.be/events/c-weelde-82-km
END:VEVENT
END:VCALENDAR